BEGIN:VCALENDAR
VERSION:2.0
PRODID:-//EUDEL Noticias | Asociación de Municipios Vascos - ECPv6.5.1.3//NONSGML v1.0//EN
CALSCALE:GREGORIAN
METHOD:PUBLISH
X-WR-CALNAME:EUDEL Noticias | Asociación de Municipios Vascos
X-ORIGINAL-URL:https://noticias.eudel.eus/en
X-WR-CALDESC:Events for EUDEL Noticias | Asociación de Municipios Vascos
REFRESH-INTERVAL;VALUE=DURATION:PT1H
X-Robots-Tag:noindex
X-PUBLISHED-TTL:PT1H
BEGIN:VTIMEZONE
TZID:Europe/Madrid
BEGIN:DAYLIGHT
TZOFFSETFROM:+0100
TZOFFSETTO:+0200
TZNAME:CEST
DTSTART:20170326T010000
END:DAYLIGHT
BEGIN:STANDARD
TZOFFSETFROM:+0200
TZOFFSETTO:+0100
TZNAME:CET
DTSTART:20171029T010000
END:STANDARD
END:VTIMEZONE
BEGIN:VEVENT
DTSTART;TZID=Europe/Madrid:20171110T090000
DTEND;TZID=Europe/Madrid:20171110T113000
DTSTAMP:20260426T013245
CREATED:20171205T162940Z
LAST-MODIFIED:20171205T162940Z
UID:17359-1510304400-1510313400@noticias.eudel.eus
SUMMARY:09:00 h. Vitoria-Gasteiz. Comisión de Ordenación del Territorio del País Vasco.09:00. Vitoria-Gasteiz. Euskal Autonomia Erkidegoko Lurraldearen Antolamendurako Batzordea.
DESCRIPTION:
URL:https://noticias.eudel.eus/en/evento/0900-h-vitoria-gasteiz-comision-de-ordenacion-del-territorio-del-pais-vasco-0900-vitoria-gasteiz-euskal-autonomia-erkidegoko-lurraldearen-antolamendurako-batzordea/
LOCATION:ARABA
CATEGORIES:General
END:VEVENT
END:VCALENDAR