BEGIN:VCALENDAR
VERSION:2.0
PRODID:-//EUDEL Noticias | Asociación de Municipios Vascos - ECPv6.5.1.3//NONSGML v1.0//EN
CALSCALE:GREGORIAN
METHOD:PUBLISH
X-WR-CALNAME:EUDEL Noticias | Asociación de Municipios Vascos
X-ORIGINAL-URL:https://noticias.eudel.eus/en
X-WR-CALDESC:Events for EUDEL Noticias | Asociación de Municipios Vascos
REFRESH-INTERVAL;VALUE=DURATION:PT1H
X-Robots-Tag:noindex
X-PUBLISHED-TTL:PT1H
BEGIN:VTIMEZONE
TZID:Europe/Madrid
BEGIN:DAYLIGHT
TZOFFSETFROM:+0100
TZOFFSETTO:+0200
TZNAME:CEST
DTSTART:20180325T010000
END:DAYLIGHT
BEGIN:STANDARD
TZOFFSETFROM:+0200
TZOFFSETTO:+0100
TZNAME:CET
DTSTART:20181028T010000
END:STANDARD
END:VTIMEZONE
BEGIN:VEVENT
DTSTART;TZID=Europe/Madrid:20180115T110000
DTEND;TZID=Europe/Madrid:20180116T120000
DTSTAMP:20260426T001826
CREATED:20180426T153544Z
LAST-MODIFIED:20180426T153544Z
UID:18148-1516014000-1516104000@noticias.eudel.eus
SUMMARY:11.00 h. Bilbao (Bizkaia Aretoa UPV/EHU). Presentación campaña interinstitucional 70 Aniversario Declaración Universal de los Derechos Humanos.11.00. Bilbo (Bizkaia Aretoa EHU). Giza Eskubideen Adierazpen Unibertsalaren 70. Urteurrenaren kanpaina aurkezpena.
DESCRIPTION:Sorry\, this entry is only available in ES and EU.
URL:https://noticias.eudel.eus/en/evento/11-00-h-bilbao-bizkaia-aretoa-upvehu-presentacion-campana-interinstitucional-70-aniversario-declaracion-universal-de-los-derechos-humanos/
LOCATION:ARABA
CATEGORIES:General
END:VEVENT
BEGIN:VEVENT
DTSTART;TZID=Europe/Madrid:20180116T090000
DTEND;TZID=Europe/Madrid:20180116T110000
DTSTAMP:20260426T001826
CREATED:20180426T153544Z
LAST-MODIFIED:20180426T153544Z
UID:18154-1516093200-1516100400@noticias.eudel.eus
SUMMARY:09:00 h. Donostia/San Sebastián. Comisión de Garantías de Admisión de Alumnos de Gipuzkoa09:00. Donostia. Gipuzkoako Ikasleen Onarpen Bermerako Batzordea.
DESCRIPTION:
URL:https://noticias.eudel.eus/en/evento/0900-h-donostiasan-sebastian-comision-de-garantias-de-admision-de-alumnos-de-gipuzkoa-2/
LOCATION:ARABA
CATEGORIES:General
END:VEVENT
BEGIN:VEVENT
DTSTART;TZID=Europe/Madrid:20180116T090000
DTEND;TZID=Europe/Madrid:20180116T143000
DTSTAMP:20260426T001826
CREATED:20180426T153544Z
LAST-MODIFIED:20180426T153544Z
UID:18158-1516093200-1516113000@noticias.eudel.eus
SUMMARY:09:00 h. Bilbao Archivo Histórico Foral (Mª Diaz de Haro). Jornada 2 Nueva Ley de Contratos del Sector Público (COSITAL Bizkaia).09:00. Bilbao. Foru Aldundiaren Agiritegi Historikoa. 2. Jardunaldia: Sektore Publikoko Kontratuen Lege berria. (COSITAL Bizkaia)
DESCRIPTION:Sorry\, this entry is only available in ES and EU.
URL:https://noticias.eudel.eus/en/evento/0900-h-bilbao-archivo-historico-foral-ma-diaz-de-haro-jornada-2-nueva-ley-de-contratos-del-sector-publico-cosital-bizkaia/
LOCATION:ARABA
CATEGORIES:General
END:VEVENT
BEGIN:VEVENT
DTSTART;TZID=Europe/Madrid:20180116T160000
DTEND;TZID=Europe/Madrid:20180116T180000
DTSTAMP:20260426T001826
CREATED:20180426T153544Z
LAST-MODIFIED:20180426T153544Z
UID:18153-1516118400-1516125600@noticias.eudel.eus
SUMMARY:16:00 h. Vitoria-Gasteiz. Consejo Vasco de Universidades.16:00. Vitoria-Gasteiz. Unibertsitateen Euskal Kontseilua.
DESCRIPTION:
URL:https://noticias.eudel.eus/en/evento/1600-h-vitoria-gasteiz-consejo-vasco-de-universidades/
LOCATION:ARABA
CATEGORIES:General
END:VEVENT
BEGIN:VEVENT
DTSTART;TZID=Europe/Madrid:20180116T163000
DTEND;TZID=Europe/Madrid:20180116T183000
DTSTAMP:20260426T001826
CREATED:20180426T153544Z
LAST-MODIFIED:20180426T153544Z
UID:18156-1516120200-1516127400@noticias.eudel.eus
SUMMARY:16:30 h. Errenteria. Red BASQUESKOLA – sesión del grupo motor.16:30. Errenteria. VWBasqueskola Sarearen Talde Eragilearen Bilera.
DESCRIPTION:
URL:https://noticias.eudel.eus/en/evento/1630-h-errenteria-red-basqueskola-sesion-del-grupo-motor/
LOCATION:ARABA
CATEGORIES:General
END:VEVENT
END:VCALENDAR