BEGIN:VCALENDAR
VERSION:2.0
PRODID:-//EUDEL Noticias | Asociación de Municipios Vascos - ECPv6.5.1.3//NONSGML v1.0//EN
CALSCALE:GREGORIAN
METHOD:PUBLISH
X-ORIGINAL-URL:https://noticias.eudel.eus/en
X-WR-CALDESC:Events for EUDEL Noticias | Asociación de Municipios Vascos
REFRESH-INTERVAL;VALUE=DURATION:PT1H
X-Robots-Tag:noindex
X-PUBLISHED-TTL:PT1H
BEGIN:VTIMEZONE
TZID:Europe/Madrid
BEGIN:DAYLIGHT
TZOFFSETFROM:+0100
TZOFFSETTO:+0200
TZNAME:CEST
DTSTART:20180325T010000
END:DAYLIGHT
BEGIN:STANDARD
TZOFFSETFROM:+0200
TZOFFSETTO:+0100
TZNAME:CET
DTSTART:20181028T010000
END:STANDARD
END:VTIMEZONE
BEGIN:VEVENT
DTSTART;TZID=Europe/Madrid:20180209T110000
DTEND;TZID=Europe/Madrid:20180209T140000
DTSTAMP:20260425T213748
CREATED:20180426T153542Z
LAST-MODIFIED:20180426T153542Z
UID:18126-1518174000-1518184800@noticias.eudel.eus
SUMMARY:11:00 h. Donostia Musikene. Jornada Prioridades Estratégicas Sociosanitarias.11:00. Donostia Musikene. Lehentasun Soziosanitario Estrategikoei buruzko jardunaldia.
DESCRIPTION:Sorry\, this entry is only available in ES and EU.
URL:https://noticias.eudel.eus/en/evento/1100-h-donostia-musikene-jornada-prioridades-estrategicas-sociosanitarias/
LOCATION:ARABA
CATEGORIES:General
END:VEVENT
END:VCALENDAR