BEGIN:VCALENDAR
VERSION:2.0
PRODID:-//EUDEL Noticias | Asociación de Municipios Vascos - ECPv6.5.1.3//NONSGML v1.0//EN
CALSCALE:GREGORIAN
METHOD:PUBLISH
X-ORIGINAL-URL:https://noticias.eudel.eus/en
X-WR-CALDESC:Events for EUDEL Noticias | Asociación de Municipios Vascos
REFRESH-INTERVAL;VALUE=DURATION:PT1H
X-Robots-Tag:noindex
X-PUBLISHED-TTL:PT1H
BEGIN:VTIMEZONE
TZID:Europe/Madrid
BEGIN:DAYLIGHT
TZOFFSETFROM:+0100
TZOFFSETTO:+0200
TZNAME:CEST
DTSTART:20180325T010000
END:DAYLIGHT
BEGIN:STANDARD
TZOFFSETFROM:+0200
TZOFFSETTO:+0100
TZNAME:CET
DTSTART:20181028T010000
END:STANDARD
END:VTIMEZONE
BEGIN:VEVENT
DTSTART;TZID=Europe/Madrid:20180214T090000
DTEND;TZID=Europe/Madrid:20180214T120000
DTSTAMP:20260425T213711
CREATED:20180426T153542Z
LAST-MODIFIED:20180426T153542Z
UID:18124-1518598800-1518609600@noticias.eudel.eus
SUMMARY:09:00 h. Vitoria-Gasteiz. Comisión Territorial de Álava de EUDEL.09:00. EUDEL Vitoria-Gasteiz. EUDELeko Arabako Lurralde Batzordea.
DESCRIPTION:
URL:https://noticias.eudel.eus/en/evento/0900-h-vitoria-gasteiz-comision-territorial-de-alava-de-eudel/
LOCATION:ARABA
CATEGORIES:General
END:VEVENT
BEGIN:VEVENT
DTSTART;TZID=Europe/Madrid:20180214T161500
DTEND;TZID=Europe/Madrid:20180214T190000
DTSTAMP:20260425T213711
CREATED:20180426T153541Z
LAST-MODIFIED:20180426T153541Z
UID:18119-1518624900-1518634800@noticias.eudel.eus
SUMMARY:16:15 h. Amurrio. Reunión de las Comisiones y Grupo Motor de Basqueskola sarea.16:15. Amurrio. Basqueskola Sareko Batzodeak eta Talde eragilearen bilera.
DESCRIPTION:
URL:https://noticias.eudel.eus/en/evento/1615-h-amurrio-reunion-de-las-comisiones-y-grupo-motor-de-basqueskola-sarea/
LOCATION:ARABA
CATEGORIES:General
END:VEVENT
BEGIN:VEVENT
DTSTART;TZID=Europe/Madrid:20180214T170000
DTEND;TZID=Europe/Madrid:20180214T183000
DTSTAMP:20260425T213711
CREATED:20180426T153541Z
LAST-MODIFIED:20180426T153541Z
UID:18120-1518627600-1518633000@noticias.eudel.eus
SUMMARY:17:00 h. Donostia/San Sebastián. Consejo Territorial de Finanzas de Gipuzkoa.17:00. Donostia. Gipuzkoako Finantzen Lurralde Kontseilua.
DESCRIPTION:
URL:https://noticias.eudel.eus/en/evento/1700-h-donostiasan-sebastian-consejo-territorial-de-finanzas-de-gipuzkoa/
LOCATION:ARABA
CATEGORIES:General
END:VEVENT
END:VCALENDAR