BEGIN:VCALENDAR
VERSION:2.0
PRODID:-//EUDEL Noticias | Asociación de Municipios Vascos - ECPv6.5.1.3//NONSGML v1.0//EN
CALSCALE:GREGORIAN
METHOD:PUBLISH
X-ORIGINAL-URL:https://noticias.eudel.eus/en
X-WR-CALDESC:Events for EUDEL Noticias | Asociación de Municipios Vascos
REFRESH-INTERVAL;VALUE=DURATION:PT1H
X-Robots-Tag:noindex
X-PUBLISHED-TTL:PT1H
BEGIN:VTIMEZONE
TZID:Europe/Madrid
BEGIN:DAYLIGHT
TZOFFSETFROM:+0100
TZOFFSETTO:+0200
TZNAME:CEST
DTSTART:20180325T010000
END:DAYLIGHT
BEGIN:STANDARD
TZOFFSETFROM:+0200
TZOFFSETTO:+0100
TZNAME:CET
DTSTART:20181028T010000
END:STANDARD
END:VTIMEZONE
BEGIN:VEVENT
DTSTART;TZID=Europe/Madrid:20180219T130000
DTEND;TZID=Europe/Madrid:20180219T140000
DTSTAMP:20260425T213711
CREATED:20180426T153541Z
LAST-MODIFIED:20180426T153541Z
UID:18114-1519045200-1519048800@noticias.eudel.eus
SUMMARY:13:00 h. Vitoria-Gasteiz. Comisión sectorial de las Admnistraciones Públicas.13:00. Vitoria-Gasteiz. Herri Erakundeen Batzorde Sektoriala.
DESCRIPTION:
URL:https://noticias.eudel.eus/en/evento/1300-h-vitoria-gasteiz-comision-sectorial-de-las-admnistraciones-publicas/
LOCATION:ARABA
CATEGORIES:General
END:VEVENT
BEGIN:VEVENT
DTSTART;TZID=Europe/Madrid:20180219T173000
DTEND;TZID=Europe/Madrid:20180219T190000
DTSTAMP:20260425T213711
CREATED:20180426T153541Z
LAST-MODIFIED:20180426T153541Z
UID:18118-1519061400-1519066800@noticias.eudel.eus
SUMMARY:17:30 h. Vitoria-Gasteiz. Consejo Territorial de Administración Local y Finanzas de Álava.17:30. Vitoria-Gasteiz. Arabako Toki Administrazio eta Finantzen Lurralde Kontseilua.
DESCRIPTION:
URL:https://noticias.eudel.eus/en/evento/1730-h-vitoria-gasteiz-consejo-territorial-de-administracion-local-y-finanzas-de-alava/
LOCATION:ARABA
CATEGORIES:General
END:VEVENT
END:VCALENDAR