BEGIN:VCALENDAR
VERSION:2.0
PRODID:-//EUDEL Noticias | Asociación de Municipios Vascos - ECPv6.5.1.3//NONSGML v1.0//EN
CALSCALE:GREGORIAN
METHOD:PUBLISH
X-WR-CALNAME:EUDEL Noticias | Asociación de Municipios Vascos
X-ORIGINAL-URL:https://noticias.eudel.eus/en
X-WR-CALDESC:Events for EUDEL Noticias | Asociación de Municipios Vascos
REFRESH-INTERVAL;VALUE=DURATION:PT1H
X-Robots-Tag:noindex
X-PUBLISHED-TTL:PT1H
BEGIN:VTIMEZONE
TZID:Europe/Madrid
BEGIN:DAYLIGHT
TZOFFSETFROM:+0100
TZOFFSETTO:+0200
TZNAME:CEST
DTSTART:20180325T010000
END:DAYLIGHT
BEGIN:STANDARD
TZOFFSETFROM:+0200
TZOFFSETTO:+0100
TZNAME:CET
DTSTART:20181028T010000
END:STANDARD
END:VTIMEZONE
BEGIN:VEVENT
DTSTART;TZID=Europe/Madrid:20180307T083000
DTEND;TZID=Europe/Madrid:20180307T173000
DTSTAMP:20260425T200502
CREATED:20180426T153543Z
LAST-MODIFIED:20180426T153543Z
UID:18137-1520411400-1520443800@noticias.eudel.eus
SUMMARY:08:30 h. Irun Ficoba. UHINAK III. Congreso Transfronterizo sobre Cambio Climático y Litoral08:30. Ficoban (Irunen). Klima Aldaketa eta Itsasertzari buruzko mugaz gaindiko III. Kongresua
DESCRIPTION:Sorry\, this entry is only available in ES and EU.
URL:https://noticias.eudel.eus/en/evento/0830-h-irun-ficoba-uhinak-iii-congreso-transfronterizo-sobre-cambio-climatico-y-litoral/
LOCATION:ARABA
CATEGORIES:General
END:VEVENT
BEGIN:VEVENT
DTSTART;TZID=Europe/Madrid:20180307T153000
DTEND;TZID=Europe/Madrid:20180307T173000
DTSTAMP:20260425T200502
CREATED:20180426T153540Z
LAST-MODIFIED:20180426T153540Z
UID:18106-1520436600-1520443800@noticias.eudel.eus
SUMMARY:15:30 h. Vitoria-Gasteiz. Comisión Territorial de Álava de EUDEL.15:30. EUDEL Vitoria-Gasteiz. EUDELeko Arabako Lurralde Batzordea.
DESCRIPTION:
URL:https://noticias.eudel.eus/en/evento/1530-h-vitoria-gasteiz-comision-territorial-de-alava-de-eudel/
LOCATION:ARABA
CATEGORIES:General
END:VEVENT
END:VCALENDAR