BEGIN:VCALENDAR
VERSION:2.0
PRODID:-//EUDEL Noticias | Asociación de Municipios Vascos - ECPv6.5.1.3//NONSGML v1.0//EN
CALSCALE:GREGORIAN
METHOD:PUBLISH
X-ORIGINAL-URL:https://noticias.eudel.eus/en
X-WR-CALDESC:Events for EUDEL Noticias | Asociación de Municipios Vascos
REFRESH-INTERVAL;VALUE=DURATION:PT1H
X-Robots-Tag:noindex
X-PUBLISHED-TTL:PT1H
BEGIN:VTIMEZONE
TZID:Europe/Madrid
BEGIN:DAYLIGHT
TZOFFSETFROM:+0100
TZOFFSETTO:+0200
TZNAME:CEST
DTSTART:20180325T010000
END:DAYLIGHT
BEGIN:STANDARD
TZOFFSETFROM:+0200
TZOFFSETTO:+0100
TZNAME:CET
DTSTART:20181028T010000
END:STANDARD
END:VTIMEZONE
BEGIN:VEVENT
DTSTART;TZID=Europe/Madrid:20180321T100000
DTEND;TZID=Europe/Madrid:20180321T120000
DTSTAMP:20260425T200047
CREATED:20180426T153540Z
LAST-MODIFIED:20180426T153540Z
UID:18094-1521626400-1521633600@noticias.eudel.eus
SUMMARY:10:00 h. EUDEL Bilbao (Plaza del Ensache\, 5).  Jornada informativa sobre la iniciativa EUSKARALDIA o “Euskarak 365 egun”10:00. EUDEL Bilbao (Zabalgune plaza\, 5). Jardunaldi informatibora: EUSKARALDIA edo “Euskarak 365 egun”
DESCRIPTION:Sorry\, this entry is only available in ES and EU.
URL:https://noticias.eudel.eus/en/evento/1000-h-eudel-bilbao-plaza-del-ensache-5-jornada-informativa-sobre-la-iniciativa-euskaraldia-o-euskarak-365-egun/
LOCATION:ARABA
CATEGORIES:General
END:VEVENT
BEGIN:VEVENT
DTSTART;TZID=Europe/Madrid:20180321T123000
DTEND;TZID=Europe/Madrid:20180321T150000
DTSTAMP:20260425T200047
CREATED:20180426T153540Z
LAST-MODIFIED:20180426T153540Z
UID:18096-1521635400-1521644400@noticias.eudel.eus
SUMMARY:12:30 h. Vitoria-Gasteiz\, Museo ARTIUM. Jornada informativa Álava-Servicio Ayuda a Domicilio.12:30. Vitoria-Gasteiz\, ARTIUM Museoa. Informazio jardunaldia Araba- Etxez Etxeko Laguntza Zerbitzuari.
DESCRIPTION:
URL:https://noticias.eudel.eus/en/evento/1230-h-vitoria-gasteiz-museo-artium-jornada-informativa-alava-servicio-ayuda-a-domicilio/
LOCATION:ARABA
CATEGORIES:General
END:VEVENT
END:VCALENDAR