BEGIN:VCALENDAR
VERSION:2.0
PRODID:-//EUDEL Noticias | Asociación de Municipios Vascos - ECPv6.5.1.3//NONSGML v1.0//EN
CALSCALE:GREGORIAN
METHOD:PUBLISH
X-ORIGINAL-URL:https://noticias.eudel.eus/en
X-WR-CALDESC:Events for EUDEL Noticias | Asociación de Municipios Vascos
REFRESH-INTERVAL;VALUE=DURATION:PT1H
X-Robots-Tag:noindex
X-PUBLISHED-TTL:PT1H
BEGIN:VTIMEZONE
TZID:Europe/Madrid
BEGIN:DAYLIGHT
TZOFFSETFROM:+0100
TZOFFSETTO:+0200
TZNAME:CEST
DTSTART:20180325T010000
END:DAYLIGHT
BEGIN:STANDARD
TZOFFSETFROM:+0200
TZOFFSETTO:+0100
TZNAME:CET
DTSTART:20181028T010000
END:STANDARD
END:VTIMEZONE
BEGIN:VEVENT
DTSTART;TZID=Europe/Madrid:20180417T161500
DTEND;TZID=Europe/Madrid:20180417T190000
DTSTAMP:20260425T155535
CREATED:20180426T153538Z
LAST-MODIFIED:20180426T153538Z
UID:18078-1523981700-1523991600@noticias.eudel.eus
SUMMARY:16:15 h. Ayuntamiento de Asteasu. Se reunen las Comisiones y Gpo Motor de Basqueskola Sarea.16:15. Asteasuko Udaletxea. Elkartuko dira Basqueskola Sarea osatzen duten Lantaldeak eta Talde Eragilea ere.
DESCRIPTION:
URL:https://noticias.eudel.eus/en/evento/1615-h-ayuntamiento-de-asteasu-se-reunen-las-comisiones-y-gpo-motor-de-basqueskola-sarea/
LOCATION:ARABA
CATEGORIES:General
END:VEVENT
END:VCALENDAR