BEGIN:VCALENDAR
VERSION:2.0
PRODID:-//EUDEL Noticias | Asociación de Municipios Vascos - ECPv6.5.1.3//NONSGML v1.0//EN
CALSCALE:GREGORIAN
METHOD:PUBLISH
X-ORIGINAL-URL:https://noticias.eudel.eus/en
X-WR-CALDESC:Events for EUDEL Noticias | Asociación de Municipios Vascos
REFRESH-INTERVAL;VALUE=DURATION:PT1H
X-Robots-Tag:noindex
X-PUBLISHED-TTL:PT1H
BEGIN:VTIMEZONE
TZID:Europe/Madrid
BEGIN:DAYLIGHT
TZOFFSETFROM:+0100
TZOFFSETTO:+0200
TZNAME:CEST
DTSTART:20180325T010000
END:DAYLIGHT
BEGIN:STANDARD
TZOFFSETFROM:+0200
TZOFFSETTO:+0100
TZNAME:CET
DTSTART:20181028T010000
END:STANDARD
END:VTIMEZONE
BEGIN:VEVENT
DTSTART;TZID=Europe/Madrid:20181130T093000
DTEND;TZID=Europe/Madrid:20181130T123000
DTSTAMP:20260425T044514
CREATED:20181205T171406Z
LAST-MODIFIED:20181205T171406Z
UID:19323-1543570200-1543581000@noticias.eudel.eus
SUMMARY:09:30 h. Vitoria-Gasteiz. Mesa de Turismo de Euskadi.09:30 h. Vitoria-Gasteiz. Euskadiko Turismoaren Mahaia.
DESCRIPTION:
URL:https://noticias.eudel.eus/en/evento/0930-h-vitoria-gasteiz-mesa-de-turismo-de-euskadi/
LOCATION:ARABA
CATEGORIES:General
END:VEVENT
END:VCALENDAR