BEGIN:VCALENDAR
VERSION:2.0
PRODID:-//EUDEL Noticias | Asociación de Municipios Vascos - ECPv6.5.1.3//NONSGML v1.0//EN
CALSCALE:GREGORIAN
METHOD:PUBLISH
X-ORIGINAL-URL:https://noticias.eudel.eus/en
X-WR-CALDESC:Events for EUDEL Noticias | Asociación de Municipios Vascos
REFRESH-INTERVAL;VALUE=DURATION:PT1H
X-Robots-Tag:noindex
X-PUBLISHED-TTL:PT1H
BEGIN:VTIMEZONE
TZID:Europe/Madrid
BEGIN:DAYLIGHT
TZOFFSETFROM:+0100
TZOFFSETTO:+0200
TZNAME:CEST
DTSTART:20200329T010000
END:DAYLIGHT
BEGIN:STANDARD
TZOFFSETFROM:+0200
TZOFFSETTO:+0100
TZNAME:CET
DTSTART:20201025T010000
END:STANDARD
END:VTIMEZONE
BEGIN:VEVENT
DTSTART;TZID=Europe/Madrid:20200224T150000
DTEND;TZID=Europe/Madrid:20200224T170000
DTSTAMP:20260424T022241
CREATED:20200224T073451Z
LAST-MODIFIED:20200224T092648Z
UID:19650-1582556400-1582563600@noticias.eudel.eus
SUMMARY:[:es]EUDEL Bilbao. Comisión política de igualdad de EUDEL.[:eu]EUDEL Bilbao. EUDELeko Berdintasun Batzorde Politikoa.[:]
DESCRIPTION:
URL:https://noticias.eudel.eus/en/evento/eudel-bilbao-comision-politica-de-igualdad-de-eudel/
END:VEVENT
END:VCALENDAR