BEGIN:VCALENDAR
VERSION:2.0
PRODID:-//EUDEL Noticias | Asociación de Municipios Vascos - ECPv6.5.1.3//NONSGML v1.0//EN
CALSCALE:GREGORIAN
METHOD:PUBLISH
X-WR-CALNAME:EUDEL Noticias | Asociación de Municipios Vascos
X-ORIGINAL-URL:https://noticias.eudel.eus/en
X-WR-CALDESC:Events for EUDEL Noticias | Asociación de Municipios Vascos
REFRESH-INTERVAL;VALUE=DURATION:PT1H
X-Robots-Tag:noindex
X-PUBLISHED-TTL:PT1H
BEGIN:VTIMEZONE
TZID:Europe/Madrid
BEGIN:DAYLIGHT
TZOFFSETFROM:+0100
TZOFFSETTO:+0200
TZNAME:CEST
DTSTART:20200329T010000
END:DAYLIGHT
BEGIN:STANDARD
TZOFFSETFROM:+0200
TZOFFSETTO:+0100
TZNAME:CET
DTSTART:20201025T010000
END:STANDARD
END:VTIMEZONE
BEGIN:VEVENT
DTSTART;TZID=Europe/Madrid:20200226T120000
DTEND;TZID=Europe/Madrid:20200226T150000
DTSTAMP:20260424T022223
CREATED:20200226T075529Z
LAST-MODIFIED:20200226T080025Z
UID:19659-1582718400-1582729200@noticias.eudel.eus
SUMMARY:[:es]Lehendakaritza\, Vitoria-Gasteiz. Entrega del Premio Ignacio Ellacuria 2019 (cooperación para el desarrollo)[:eu]Lehendakaritza\, Vitoria-Gasteiz. 2019ko Ignacio Ellacuria Sariaren emate ekitaldia (Garapen-lankidetza)[:]
DESCRIPTION:Sorry\, this entry is only available in ES and EU.
URL:https://noticias.eudel.eus/en/evento/lehendakaritza-vitoria-gasteiz-entrega-del-premio-ignacio-ellacuria-2019-cooperacion-para-el-desarrollo/
LOCATION:Lehendakaritza\, Nafarroa kalea\, 2 / calle Navarra\, 2\, VITORIA-GASTEIZ\, Vitoria-Gasteiz
END:VEVENT
END:VCALENDAR