BEGIN:VCALENDAR
VERSION:2.0
PRODID:-//EUDEL Noticias | Asociación de Municipios Vascos - ECPv6.5.1.3//NONSGML v1.0//EN
CALSCALE:GREGORIAN
METHOD:PUBLISH
X-ORIGINAL-URL:https://noticias.eudel.eus/en
X-WR-CALDESC:Events for EUDEL Noticias | Asociación de Municipios Vascos
REFRESH-INTERVAL;VALUE=DURATION:PT1H
X-Robots-Tag:noindex
X-PUBLISHED-TTL:PT1H
BEGIN:VTIMEZONE
TZID:Europe/Madrid
BEGIN:DAYLIGHT
TZOFFSETFROM:+0100
TZOFFSETTO:+0200
TZNAME:CEST
DTSTART:20200329T010000
END:DAYLIGHT
BEGIN:STANDARD
TZOFFSETFROM:+0200
TZOFFSETTO:+0100
TZNAME:CET
DTSTART:20201025T010000
END:STANDARD
END:VTIMEZONE
BEGIN:VEVENT
DTSTART;TZID=Europe/Madrid:20200305T100000
DTEND;TZID=Europe/Madrid:20200305T120000
DTSTAMP:20260424T022240
CREATED:20200228T130930Z
LAST-MODIFIED:20200228T131616Z
UID:19706-1583402400-1583409600@noticias.eudel.eus
SUMMARY:[:es]EUDEL Bilbao. Comisión Territorial de Bizkaia de EUDEL[:eu]EUDEL Bilbao. EUDELeko Bizkaiko Lurralde Batzordea[:]
DESCRIPTION:
URL:https://noticias.eudel.eus/en/evento/eudel-bilbao-comision-territorial-de-bizkaia/
LOCATION:EUDEL Bilbao\, Ertzilla kalea 13 / c/ Ercilla\, nº 13\, BILBAO\, 48009
END:VEVENT
BEGIN:VEVENT
DTSTART;TZID=Europe/Madrid:20200305T110000
DTEND;TZID=Europe/Madrid:20200305T130000
DTSTAMP:20260424T022240
CREATED:20200228T131158Z
LAST-MODIFIED:20200228T131158Z
UID:19710-1583406000-1583413200@noticias.eudel.eus
SUMMARY:[:es]Bilbao. Comisión de Seguridad Vial de la Comunidad Autónoma del País Vasco.[:eu]Bilbao. Euskal Autonomia Erkidegoko Bide Segurtasunaren Batzordea.[:]
DESCRIPTION:
URL:https://noticias.eudel.eus/en/evento/bilbao-comision-de-seguridad-vial-de-la-comunidad-autonoma-del-pais-vasco/
END:VEVENT
BEGIN:VEVENT
DTSTART;TZID=Europe/Madrid:20200305T120000
DTEND;TZID=Europe/Madrid:20200305T140000
DTSTAMP:20260424T022240
CREATED:20200221T131303Z
LAST-MODIFIED:20200221T131303Z
UID:19648-1583409600-1583416800@noticias.eudel.eus
SUMMARY:[:es]Bilbao. Mesa de trabajo Interinstitucional de Servicios Sociales de Bizkaia.[:eu]Bilbao. Gizarte Zerbitzuen Bizkaiko Lurralde Erakunde Arteko Lan-mahaia[:]
DESCRIPTION:
URL:https://noticias.eudel.eus/en/evento/bilbao-mesa-de-trabajo-interinstitucional-de-servicios-sociales-de-bizkaia/
END:VEVENT
BEGIN:VEVENT
DTSTART;TZID=Europe/Madrid:20200305T150000
DTEND;TZID=Europe/Madrid:20200305T170000
DTSTAMP:20260424T022240
CREATED:20200226T081555Z
LAST-MODIFIED:20200226T085559Z
UID:19665-1583420400-1583427600@noticias.eudel.eus
SUMMARY:[:es]EUDEL Bilbao. Asamblea Política de BERDINSAREA.[:eu]EUDEL Bilbao. BERDINSAREAREN Asanblada Politikoa.[:]
DESCRIPTION:Sorry\, this entry is only available in ES and EU.
URL:https://noticias.eudel.eus/en/evento/eudel-bilbao-asamblea-politica-de-berdinsarea/
LOCATION:EUDEL Bilbao\, Ertzilla kalea 13 / c/ Ercilla\, nº 13\, BILBAO\, 48009
END:VEVENT
END:VCALENDAR