BEGIN:VCALENDAR
VERSION:2.0
PRODID:-//EUDEL Noticias | Asociación de Municipios Vascos - ECPv6.5.1.3//NONSGML v1.0//EN
CALSCALE:GREGORIAN
METHOD:PUBLISH
X-WR-CALNAME:EUDEL Noticias | Asociación de Municipios Vascos
X-ORIGINAL-URL:https://noticias.eudel.eus/en
X-WR-CALDESC:Events for EUDEL Noticias | Asociación de Municipios Vascos
REFRESH-INTERVAL;VALUE=DURATION:PT1H
X-Robots-Tag:noindex
X-PUBLISHED-TTL:PT1H
BEGIN:VTIMEZONE
TZID:Europe/Madrid
BEGIN:DAYLIGHT
TZOFFSETFROM:+0100
TZOFFSETTO:+0200
TZNAME:CEST
DTSTART:20200329T010000
END:DAYLIGHT
BEGIN:STANDARD
TZOFFSETFROM:+0200
TZOFFSETTO:+0100
TZNAME:CET
DTSTART:20201025T010000
END:STANDARD
END:VTIMEZONE
BEGIN:VEVENT
DTSTART;TZID=Europe/Madrid:20200508T093000
DTEND;TZID=Europe/Madrid:20200508T110000
DTSTAMP:20260423T221000
CREATED:20200507T063329Z
LAST-MODIFIED:20200507T063329Z
UID:20112-1588930200-1588935600@noticias.eudel.eus
SUMMARY:[:es]Bilbao Bizkaia Action Group[:eu]Bilbao Bizkaia Action Group[:]
DESCRIPTION:
URL:https://noticias.eudel.eus/en/evento/bilbao-bizkaia-action-group/
LOCATION:Bideokonferentzia bitartez egiten da / Se celebra a través de viodeoconferencia
END:VEVENT
BEGIN:VEVENT
DTSTART;TZID=Europe/Madrid:20200508T100000
DTEND;TZID=Europe/Madrid:20200508T113000
DTSTAMP:20260423T221000
CREATED:20200507T090905Z
LAST-MODIFIED:20200507T090905Z
UID:20125-1588932000-1588937400@noticias.eudel.eus
SUMMARY:[:es]Reunión COVID19 en el ámbito de la actividad física y el deporte.[:eu]Jarduera fisikoaren eta kirola eremuko COVID-19 bilera.[:]
DESCRIPTION:
URL:https://noticias.eudel.eus/en/evento/reunion-covid19-en-el-ambito-de-la-actividad-fisica-y-el-deporte/
LOCATION:Bideokonferentzia bitartez egiten da / Se celebra a través de viodeoconferencia
END:VEVENT
BEGIN:VEVENT
DTSTART;TZID=Europe/Madrid:20200508T120000
DTEND;TZID=Europe/Madrid:20200508T133000
DTSTAMP:20260423T221000
CREATED:20200507T063837Z
LAST-MODIFIED:20200507T063837Z
UID:20118-1588939200-1588944600@noticias.eudel.eus
SUMMARY:[:es]Consejo Territorial de Finanzas de Bizkaia[:eu]Bizkaiko Finantzen Lurralde Kontseilua.[:]
DESCRIPTION:
URL:https://noticias.eudel.eus/en/evento/consejo-territorial-de-finanzas-de-bizkaia/
LOCATION:Bideokonferentzia bitartez egiten da / Se celebra a través de viodeoconferencia
END:VEVENT
END:VCALENDAR