BEGIN:VCALENDAR
VERSION:2.0
PRODID:-//EUDEL Noticias | Asociación de Municipios Vascos - ECPv6.5.1.3//NONSGML v1.0//EN
CALSCALE:GREGORIAN
METHOD:PUBLISH
X-ORIGINAL-URL:https://noticias.eudel.eus/en
X-WR-CALDESC:Events for EUDEL Noticias | Asociación de Municipios Vascos
REFRESH-INTERVAL;VALUE=DURATION:PT1H
X-Robots-Tag:noindex
X-PUBLISHED-TTL:PT1H
BEGIN:VTIMEZONE
TZID:Europe/Madrid
BEGIN:DAYLIGHT
TZOFFSETFROM:+0100
TZOFFSETTO:+0200
TZNAME:CEST
DTSTART:20200329T010000
END:DAYLIGHT
BEGIN:STANDARD
TZOFFSETFROM:+0200
TZOFFSETTO:+0100
TZNAME:CET
DTSTART:20201025T010000
END:STANDARD
END:VTIMEZONE
BEGIN:VEVENT
DTSTART;TZID=Europe/Madrid:20201015T110000
DTEND;TZID=Europe/Madrid:20201015T130000
DTSTAMP:20260423T101546
CREATED:20201014T070832Z
LAST-MODIFIED:20201014T070832Z
UID:20712-1602759600-1602766800@noticias.eudel.eus
SUMMARY:[:es]11:00 h. Vitoria-Gasteiz. Consejo Vasco de Finanzas Públicas.[:eu]11:00. Vitoria-Gasteiz. Herri-Dirubideen Euskal Kontseilua.[:]
DESCRIPTION:
URL:https://noticias.eudel.eus/en/evento/1100-h-vitoria-gasteiz-consejo-vasco-de-finanzas-publicas/
LOCATION:Vitoria-Gasteiz\, ARABA
END:VEVENT
END:VCALENDAR