BEGIN:VCALENDAR
VERSION:2.0
PRODID:-//EUDEL Noticias | Asociación de Municipios Vascos - ECPv6.5.1.3//NONSGML v1.0//EN
CALSCALE:GREGORIAN
METHOD:PUBLISH
X-WR-CALNAME:EUDEL Noticias | Asociación de Municipios Vascos
X-ORIGINAL-URL:https://noticias.eudel.eus/en
X-WR-CALDESC:Events for EUDEL Noticias | Asociación de Municipios Vascos
REFRESH-INTERVAL;VALUE=DURATION:PT1H
X-Robots-Tag:noindex
X-PUBLISHED-TTL:PT1H
BEGIN:VTIMEZONE
TZID:Europe/Madrid
BEGIN:DAYLIGHT
TZOFFSETFROM:+0100
TZOFFSETTO:+0200
TZNAME:CEST
DTSTART:20200329T010000
END:DAYLIGHT
BEGIN:STANDARD
TZOFFSETFROM:+0200
TZOFFSETTO:+0100
TZNAME:CET
DTSTART:20201025T010000
END:STANDARD
END:VTIMEZONE
BEGIN:VEVENT
DTSTART;TZID=Europe/Madrid:20201104T093000
DTEND;TZID=Europe/Madrid:20201104T110000
DTSTAMP:20260423T063937
CREATED:20201103T131832Z
LAST-MODIFIED:20201103T131832Z
UID:20844-1604482200-1604487600@noticias.eudel.eus
SUMMARY:[:es]Reunión con la Vicelehendakari Segunda y Consejera de Trabajo y Empleo del Gobierno Vasco[:eu]Eusko Jaurlaritzako Bigarren Lehendakariordea eta Lan eta Enpleguko sailburuarekin bilera[:]
DESCRIPTION:
URL:https://noticias.eudel.eus/en/evento/reunion-con-la-vicelehendakari-segunda-y-consejera-de-trabajo-y-empleo-del-gobierno-vasco/
LOCATION:Vitoria-Gasteiz\, ARABA
END:VEVENT
END:VCALENDAR