BEGIN:VCALENDAR
VERSION:2.0
PRODID:-//EUDEL Noticias | Asociación de Municipios Vascos - ECPv6.5.1.3//NONSGML v1.0//EN
CALSCALE:GREGORIAN
METHOD:PUBLISH
X-ORIGINAL-URL:https://noticias.eudel.eus/en
X-WR-CALDESC:Events for EUDEL Noticias | Asociación de Municipios Vascos
REFRESH-INTERVAL;VALUE=DURATION:PT1H
X-Robots-Tag:noindex
X-PUBLISHED-TTL:PT1H
BEGIN:VTIMEZONE
TZID:Europe/Madrid
BEGIN:DAYLIGHT
TZOFFSETFROM:+0100
TZOFFSETTO:+0200
TZNAME:CEST
DTSTART:20200329T010000
END:DAYLIGHT
BEGIN:STANDARD
TZOFFSETFROM:+0200
TZOFFSETTO:+0100
TZNAME:CET
DTSTART:20201025T010000
END:STANDARD
END:VTIMEZONE
BEGIN:VEVENT
DTSTART;TZID=Europe/Madrid:20201112T093000
DTEND;TZID=Europe/Madrid:20201112T103000
DTSTAMP:20260423T083031
CREATED:20201106T074226Z
LAST-MODIFIED:20201106T074226Z
UID:20858-1605173400-1605177000@noticias.eudel.eus
SUMMARY:[:es]Comisión Ejecutiva de EUDEL[:eu]EUDELen Batzorde Eragilea[:]
DESCRIPTION:
URL:https://noticias.eudel.eus/en/evento/comision-ejecutiva-de-eudel-9/
LOCATION:Bideokonferentzia bitartez egiten da / Se celebra a través de viodeoconferencia
END:VEVENT
BEGIN:VEVENT
DTSTART;TZID=Europe/Madrid:20201112T110000
DTEND;TZID=Europe/Madrid:20201112T140000
DTSTAMP:20260423T083031
CREATED:20201106T074731Z
LAST-MODIFIED:20201106T075523Z
UID:20860-1605178800-1605189600@noticias.eudel.eus
SUMMARY:[:es]Asamblea General EUDEL[:eu]Batzar Orokorra 2020[:]
DESCRIPTION:Sorry\, this entry is only available in ES and EU.
URL:https://noticias.eudel.eus/en/evento/asamblea-general-eudel/
LOCATION:Bideokonferentzia bitartez egiten da / Se celebra a través de viodeoconferencia
END:VEVENT
BEGIN:VEVENT
DTSTART;TZID=Europe/Madrid:20201112T160000
DTEND;TZID=Europe/Madrid:20201112T180000
DTSTAMP:20260423T083031
CREATED:20201103T132430Z
LAST-MODIFIED:20201103T132430Z
UID:20848-1605196800-1605204000@noticias.eudel.eus
SUMMARY:[:es]Basqueskola Comisión de Acompañamiento [:eu]Basqueskola Akonpainamendu komisioa[:]
DESCRIPTION:
URL:https://noticias.eudel.eus/en/evento/basqueskola-comision-de-acompanamiento/
LOCATION:Bideokonferentzia bitartez egiten da / Se celebra a través de viodeoconferencia
END:VEVENT
END:VCALENDAR