BEGIN:VCALENDAR
VERSION:2.0
PRODID:-//EUDEL Noticias | Asociación de Municipios Vascos - ECPv6.5.1.3//NONSGML v1.0//EN
CALSCALE:GREGORIAN
METHOD:PUBLISH
X-ORIGINAL-URL:https://noticias.eudel.eus/en
X-WR-CALDESC:Events for EUDEL Noticias | Asociación de Municipios Vascos
REFRESH-INTERVAL;VALUE=DURATION:PT1H
X-Robots-Tag:noindex
X-PUBLISHED-TTL:PT1H
BEGIN:VTIMEZONE
TZID:Europe/Madrid
BEGIN:DAYLIGHT
TZOFFSETFROM:+0100
TZOFFSETTO:+0200
TZNAME:CEST
DTSTART:20200329T010000
END:DAYLIGHT
BEGIN:STANDARD
TZOFFSETFROM:+0200
TZOFFSETTO:+0100
TZNAME:CET
DTSTART:20201025T010000
END:STANDARD
END:VTIMEZONE
BEGIN:VEVENT
DTSTART;TZID=Europe/Madrid:20201209T100000
DTEND;TZID=Europe/Madrid:20201209T120000
DTSTAMP:20260423T064133
CREATED:20201209T101353Z
LAST-MODIFIED:20201209T101353Z
UID:21013-1607508000-1607515200@noticias.eudel.eus
SUMMARY:[:es]Consejo para la promoción integral y participación social del pueblo gitano en el País Vasco.[:eu]Ijito herriaren erabateko sustapenerako eta partaidetza sozialerako kontseilua.[:]
DESCRIPTION:
URL:https://noticias.eudel.eus/en/evento/consejo-para-la-promocion-integral-y-participacion-social-del-pueblo-gitano-en-el-pais-vasco/
LOCATION:Bideokonferentzia bitartez egiten da / Se celebra a través de viodeoconferencia
END:VEVENT
BEGIN:VEVENT
DTSTART;TZID=Europe/Madrid:20201209T150000
DTEND;TZID=Europe/Madrid:20201209T170000
DTSTAMP:20260423T064133
CREATED:20201127T120847Z
LAST-MODIFIED:20201127T120847Z
UID:20978-1607526000-1607533200@noticias.eudel.eus
SUMMARY:[:es]Comisión de Protección Civil de Euskadi.[:eu]Euskadiko Babes Zibileko Batzordea.[:]
DESCRIPTION:
URL:https://noticias.eudel.eus/en/evento/comision-de-proteccion-civil-de-euskadi/
LOCATION:Bideokonferentzia bitartez egiten da / Se celebra a través de viodeoconferencia
END:VEVENT
BEGIN:VEVENT
DTSTART;TZID=Europe/Madrid:20201209T160000
DTEND;TZID=Europe/Madrid:20201209T173000
DTSTAMP:20260423T064133
CREATED:20201202T083731Z
LAST-MODIFIED:20201209T095140Z
UID:21000-1607529600-1607535000@noticias.eudel.eus
SUMMARY:[:es]Basqueaditu Formación "Usos del tiempo y participación politica local"[:eu]Basqueaditu Prestakuntza Pilula "Denboraren erabiliera eta udal politikagintza"[:]
DESCRIPTION:
URL:https://noticias.eudel.eus/en/evento/basqueaditu-formacion-usos-del-tiempo-y-participacion-politica-local/
LOCATION:Bideokonferentzia bitartez egiten da / Se celebra a través de viodeoconferencia
END:VEVENT
BEGIN:VEVENT
DTSTART;TZID=Europe/Madrid:20201209T160000
DTEND;TZID=Europe/Madrid:20201209T180000
DTSTAMP:20260423T064133
CREATED:20201209T101600Z
LAST-MODIFIED:20201209T101600Z
UID:21015-1607529600-1607536800@noticias.eudel.eus
SUMMARY:[:es]Reunión del Consejo de Dirección de Gogora[:eu]Gogora Zuzendaritza kontseiluaren bilera[:]
DESCRIPTION:
URL:https://noticias.eudel.eus/en/evento/reunion-del-consejo-de-direccion-de-gogora/
LOCATION:Bideokonferentzia bitartez egiten da / Se celebra a través de viodeoconferencia
END:VEVENT
END:VCALENDAR