BEGIN:VCALENDAR
VERSION:2.0
PRODID:-//EUDEL Noticias | Asociación de Municipios Vascos - ECPv6.5.1.3//NONSGML v1.0//EN
CALSCALE:GREGORIAN
METHOD:PUBLISH
X-ORIGINAL-URL:https://noticias.eudel.eus/en
X-WR-CALDESC:Events for EUDEL Noticias | Asociación de Municipios Vascos
REFRESH-INTERVAL;VALUE=DURATION:PT1H
X-Robots-Tag:noindex
X-PUBLISHED-TTL:PT1H
BEGIN:VTIMEZONE
TZID:Europe/Madrid
BEGIN:DAYLIGHT
TZOFFSETFROM:+0100
TZOFFSETTO:+0200
TZNAME:CEST
DTSTART:20200329T010000
END:DAYLIGHT
BEGIN:STANDARD
TZOFFSETFROM:+0200
TZOFFSETTO:+0100
TZNAME:CET
DTSTART:20201025T010000
END:STANDARD
END:VTIMEZONE
BEGIN:VEVENT
DTSTART;TZID=Europe/Madrid:20201210T090000
DTEND;TZID=Europe/Madrid:20201210T113000
DTSTAMP:20260423T050016
CREATED:20201209T101801Z
LAST-MODIFIED:20201209T101801Z
UID:21017-1607590800-1607599800@noticias.eudel.eus
SUMMARY:[:es]Comisión Ejecutiva de EUDEL[:eu]EUDELeko Batzorde Eragilea[:]
DESCRIPTION:
URL:https://noticias.eudel.eus/en/evento/comision-ejecutiva-de-eudel-10/
LOCATION:Bideokonferentzia bitartez egiten da / Se celebra a través de viodeoconferencia
END:VEVENT
BEGIN:VEVENT
DTSTART;TZID=Europe/Madrid:20201210T093000
DTEND;TZID=Europe/Madrid:20201210T113000
DTSTAMP:20260423T050016
CREATED:20201209T102237Z
LAST-MODIFIED:20201209T102237Z
UID:21019-1607592600-1607599800@noticias.eudel.eus
SUMMARY:[:es]Comisión de Garantías de Admisión de Alumnos de Bizkaia[:eu]Bizkaiko Ikasleen Onarpen Bermerako Batzordea.[:]
DESCRIPTION:
URL:https://noticias.eudel.eus/en/evento/comision-de-garantias-de-admision-de-alumnos-de-bizkaia-2/
LOCATION:Bilbao
END:VEVENT
BEGIN:VEVENT
DTSTART;TZID=Europe/Madrid:20201210T120000
DTEND;TZID=Europe/Madrid:20201210T140000
DTSTAMP:20260423T050016
CREATED:20201209T102442Z
LAST-MODIFIED:20201209T102442Z
UID:21021-1607601600-1607608800@noticias.eudel.eus
SUMMARY:[:es]Convocatoria Mesa Interinstitucional de Emprendimiento[:eu]Erakundearteko Ekintzailetza Mahaiaren Deialdia[:]
DESCRIPTION:
URL:https://noticias.eudel.eus/en/evento/convocatoria-mesa-interinstitucional-de-emprendimiento/
LOCATION:Bideokonferentzia bitartez egiten da / Se celebra a través de viodeoconferencia
END:VEVENT
BEGIN:VEVENT
DTSTART;TZID=Europe/Madrid:20201210T123000
DTEND;TZID=Europe/Madrid:20201210T140000
DTSTAMP:20260423T050016
CREATED:20201202T112235Z
LAST-MODIFIED:20201202T112235Z
UID:21002-1607603400-1607608800@noticias.eudel.eus
SUMMARY:[:es]Consejo Vasco del Voluntariado[:eu]Boluntariotzaren Euskal Kontseilua[:]
DESCRIPTION:
URL:https://noticias.eudel.eus/en/evento/consejo-vasco-del-voluntariado-3/
LOCATION:Bideokonferentzia bitartez egiten da / Se celebra a través de viodeoconferencia
END:VEVENT
BEGIN:VEVENT
DTSTART;TZID=Europe/Madrid:20201210T180000
DTEND;TZID=Europe/Madrid:20201210T190000
DTSTAMP:20260423T050016
CREATED:20201209T102723Z
LAST-MODIFIED:20201209T102723Z
UID:21023-1607623200-1607626800@noticias.eudel.eus
SUMMARY:[:es]Consejo Territorial de Deporte Escolar de Álava[:eu]Arabako Eskola Kirolaren Lurraldeko Kontseilua[:]
DESCRIPTION:
URL:https://noticias.eudel.eus/en/evento/consejo-territorial-de-deporte-escolar-de-alava/
LOCATION:Vitoria-Gasteiz\, ARABA
END:VEVENT
END:VCALENDAR