BEGIN:VCALENDAR
VERSION:2.0
PRODID:-//EUDEL Noticias | Asociación de Municipios Vascos - ECPv6.5.1.3//NONSGML v1.0//EN
CALSCALE:GREGORIAN
METHOD:PUBLISH
X-ORIGINAL-URL:https://noticias.eudel.eus/en
X-WR-CALDESC:Events for EUDEL Noticias | Asociación de Municipios Vascos
REFRESH-INTERVAL;VALUE=DURATION:PT1H
X-Robots-Tag:noindex
X-PUBLISHED-TTL:PT1H
BEGIN:VTIMEZONE
TZID:Europe/Madrid
BEGIN:DAYLIGHT
TZOFFSETFROM:+0100
TZOFFSETTO:+0200
TZNAME:CEST
DTSTART:20210328T010000
END:DAYLIGHT
BEGIN:STANDARD
TZOFFSETFROM:+0200
TZOFFSETTO:+0100
TZNAME:CET
DTSTART:20211031T010000
END:STANDARD
END:VTIMEZONE
BEGIN:VEVENT
DTSTART;TZID=Europe/Madrid:20210301T110000
DTEND;TZID=Europe/Madrid:20210301T130000
DTSTAMP:20260422T203513
CREATED:20210226T133148Z
LAST-MODIFIED:20210226T133148Z
UID:21293-1614596400-1614603600@noticias.eudel.eus
SUMMARY:[:es]Reunión con Departamento de Desarrollo Económico\, Sostenibilidad y Medio Ambiente  del Gobierno Vasco[:eu]Bilera Eusko Jaurlaritzako Ekonomiaren Garapen\, Iraunkortasun eta Ingurumen Sailarekin[:]
DESCRIPTION:
URL:https://noticias.eudel.eus/en/evento/reunion-con-departamento-de-desarrollo-economico-sostenibilidad-y-medio-ambiente-del-gobierno-vasco/
LOCATION:Vitoria-Gasteiz\, ARABA
END:VEVENT
END:VCALENDAR