BEGIN:VCALENDAR
VERSION:2.0
PRODID:-//EUDEL Noticias | Asociación de Municipios Vascos - ECPv6.5.1.3//NONSGML v1.0//EN
CALSCALE:GREGORIAN
METHOD:PUBLISH
X-ORIGINAL-URL:https://noticias.eudel.eus/en
X-WR-CALDESC:Events for EUDEL Noticias | Asociación de Municipios Vascos
REFRESH-INTERVAL;VALUE=DURATION:PT1H
X-Robots-Tag:noindex
X-PUBLISHED-TTL:PT1H
BEGIN:VTIMEZONE
TZID:Europe/Madrid
BEGIN:DAYLIGHT
TZOFFSETFROM:+0100
TZOFFSETTO:+0200
TZNAME:CEST
DTSTART:20210328T010000
END:DAYLIGHT
BEGIN:STANDARD
TZOFFSETFROM:+0200
TZOFFSETTO:+0100
TZNAME:CET
DTSTART:20211031T010000
END:STANDARD
END:VTIMEZONE
BEGIN:VEVENT
DTSTART;TZID=Europe/Madrid:20210524T113000
DTEND;TZID=Europe/Madrid:20210524T133000
DTSTAMP:20260422T134830
CREATED:20210521T080532Z
LAST-MODIFIED:20210521T080532Z
UID:21582-1621855800-1621863000@noticias.eudel.eus
SUMMARY:[:es]Consejo Asesor de Medio Ambiente de la Comunidad Autónoma del País Vasco[:eu]Euskal Autonomia Erkidegoko Ingurumenerako Aholku Batzordea[:]
DESCRIPTION:
URL:https://noticias.eudel.eus/en/evento/consejo-asesor-de-medio-ambiente-de-la-comunidad-autonoma-del-pais-vasco/
LOCATION:Vitoria-Gasteiz\, ARABA
END:VEVENT
BEGIN:VEVENT
DTSTART;TZID=Europe/Madrid:20210524T120000
DTEND;TZID=Europe/Madrid:20210524T140000
DTSTAMP:20260422T134830
CREATED:20210521T080405Z
LAST-MODIFIED:20210521T080405Z
UID:21580-1621857600-1621864800@noticias.eudel.eus
SUMMARY:[:es]Consejo Territorial de Administración Local y Finanzas de Álava[:eu]Arabako Toki Administrazioko eta Finantzetako Lurralde Kontseilua[:]
DESCRIPTION:
URL:https://noticias.eudel.eus/en/evento/consejo-territorial-de-administracion-local-y-finanzas-de-alava-3/
LOCATION:Bideokonferentzia bitartez egiten da / Se celebra a través de viodeoconferencia
END:VEVENT
END:VCALENDAR