BEGIN:VCALENDAR
VERSION:2.0
PRODID:-//EUDEL Noticias | Asociación de Municipios Vascos - ECPv6.5.1.3//NONSGML v1.0//EN
CALSCALE:GREGORIAN
METHOD:PUBLISH
X-ORIGINAL-URL:https://noticias.eudel.eus/en
X-WR-CALDESC:Events for EUDEL Noticias | Asociación de Municipios Vascos
REFRESH-INTERVAL;VALUE=DURATION:PT1H
X-Robots-Tag:noindex
X-PUBLISHED-TTL:PT1H
BEGIN:VTIMEZONE
TZID:Europe/Madrid
BEGIN:DAYLIGHT
TZOFFSETFROM:+0100
TZOFFSETTO:+0200
TZNAME:CEST
DTSTART:20210328T010000
END:DAYLIGHT
BEGIN:STANDARD
TZOFFSETFROM:+0200
TZOFFSETTO:+0100
TZNAME:CET
DTSTART:20211031T010000
END:STANDARD
END:VTIMEZONE
BEGIN:VEVENT
DTSTART;TZID=Europe/Madrid:20210629T093000
DTEND;TZID=Europe/Madrid:20210629T110000
DTSTAMP:20260422T122113
CREATED:20210625T095803Z
LAST-MODIFIED:20210625T095803Z
UID:21998-1624959000-1624964400@noticias.eudel.eus
SUMMARY:[:es]Comisión de Garantías de Admisión de alumnos para el curso 2020-2021[:eu]2021/2022 ikasturteko ikasleen Onarpena Bermatzeko Batzordea.[:]
DESCRIPTION:
URL:https://noticias.eudel.eus/en/evento/comision-de-garantias-de-admision-de-alumnos-para-el-curso-2020-2021/
LOCATION:Bideokonferentzia bitartez egiten da / Se celebra a través de viodeoconferencia
END:VEVENT
BEGIN:VEVENT
DTSTART;TZID=Europe/Madrid:20210629T123000
DTEND;TZID=Europe/Madrid:20210629T143000
DTSTAMP:20260422T122113
CREATED:20210618T095247Z
LAST-MODIFIED:20210618T095247Z
UID:21970-1624969800-1624977000@noticias.eudel.eus
SUMMARY:[:es]Consejo Vasco de Cooperación para el Desarrollo[:eu]Garapenerako Lankidetzaren Euskal Kontseilua.[:]
DESCRIPTION:
URL:https://noticias.eudel.eus/en/evento/consejo-vasco-de-cooperacion-para-el-desarrollo-2/
LOCATION:Bideokonferentzia bitartez egiten da / Se celebra a través de viodeoconferencia
END:VEVENT
END:VCALENDAR