BEGIN:VCALENDAR
VERSION:2.0
PRODID:-//EUDEL Noticias | Asociación de Municipios Vascos - ECPv6.5.1.3//NONSGML v1.0//EN
CALSCALE:GREGORIAN
METHOD:PUBLISH
X-WR-CALNAME:EUDEL Noticias | Asociación de Municipios Vascos
X-ORIGINAL-URL:https://noticias.eudel.eus/en
X-WR-CALDESC:Events for EUDEL Noticias | Asociación de Municipios Vascos
REFRESH-INTERVAL;VALUE=DURATION:PT1H
X-Robots-Tag:noindex
X-PUBLISHED-TTL:PT1H
BEGIN:VTIMEZONE
TZID:Europe/Madrid
BEGIN:DAYLIGHT
TZOFFSETFROM:+0100
TZOFFSETTO:+0200
TZNAME:CEST
DTSTART:20210328T010000
END:DAYLIGHT
BEGIN:STANDARD
TZOFFSETFROM:+0200
TZOFFSETTO:+0100
TZNAME:CET
DTSTART:20211031T010000
END:STANDARD
END:VTIMEZONE
BEGIN:VEVENT
DTSTART;TZID=Europe/Madrid:20211008T090000
DTEND;TZID=Europe/Madrid:20211008T140000
DTSTAMP:20260422T040152
CREATED:20210906T064043Z
LAST-MODIFIED:20210906T064043Z
UID:22122-1633683600-1633701600@noticias.eudel.eus
SUMMARY:[:es]Programa de Dirección Pública Local 2021-2022 Ayuntamientos vascos 2030: desarrollo sostenible\, recuperación y transformación. Módulo Introductorio.[:eu]Tokiko Zuzendaritza Publikoko Programa 2021-2022 Ayuntamientos vascos 2030: desarrollo sostenible\, recuperación y transformación. Sarrerako Modulua[:]
DESCRIPTION:
URL:https://noticias.eudel.eus/en/evento/programa-de-direccion-publica-local-2021-2022-ayuntamientos-vascos-2030-desarrollo-sostenible-recuperacion-y-transformacion-modulo-introductorio/
LOCATION:EUDEL Bilbao\, Ertzilla kalea 13 / c/ Ercilla\, nº 13\, BILBAO\, 48009
END:VEVENT
BEGIN:VEVENT
DTSTART;TZID=Europe/Madrid:20211008T123000
DTEND;TZID=Europe/Madrid:20211008T143000
DTSTAMP:20260422T040152
CREATED:20211008T101436Z
LAST-MODIFIED:20211008T101436Z
UID:22218-1633696200-1633703400@noticias.eudel.eus
SUMMARY:[:es]Consejo Vasco de Finanzas Públicas[:eu]Herri-Dirubideen Euskal Kontseilua [:]
DESCRIPTION:
URL:https://noticias.eudel.eus/en/evento/consejo-vasco-de-finanzas-publicas/
LOCATION:Vitoria-Gasteiz\, ARABA
END:VEVENT
END:VCALENDAR