BEGIN:VCALENDAR
VERSION:2.0
PRODID:-//EUDEL Noticias | Asociación de Municipios Vascos - ECPv6.5.1.3//NONSGML v1.0//EN
CALSCALE:GREGORIAN
METHOD:PUBLISH
X-WR-CALNAME:EUDEL Noticias | Asociación de Municipios Vascos
X-ORIGINAL-URL:https://noticias.eudel.eus/en
X-WR-CALDESC:Events for EUDEL Noticias | Asociación de Municipios Vascos
REFRESH-INTERVAL;VALUE=DURATION:PT1H
X-Robots-Tag:noindex
X-PUBLISHED-TTL:PT1H
BEGIN:VTIMEZONE
TZID:Europe/Madrid
BEGIN:DAYLIGHT
TZOFFSETFROM:+0100
TZOFFSETTO:+0200
TZNAME:CEST
DTSTART:20210328T010000
END:DAYLIGHT
BEGIN:STANDARD
TZOFFSETFROM:+0200
TZOFFSETTO:+0100
TZNAME:CET
DTSTART:20211031T010000
END:STANDARD
END:VTIMEZONE
BEGIN:VEVENT
DTSTART;TZID=Europe/Madrid:20211022T090000
DTEND;TZID=Europe/Madrid:20211022T140000
DTSTAMP:20260422T035140
CREATED:20210906T064234Z
LAST-MODIFIED:20210906T082720Z
UID:22124-1634893200-1634911200@noticias.eudel.eus
SUMMARY:[:es]Programa de Dirección Pública Local 2021-2022 Ayuntamientos vascos 2030: desarrollo sostenible\, recuperación y transformación. MÓDULO 1: Agenda 2030 e impactos locales[:eu]Tokiko Zuzendaritza Publikoko Programa 2021-2022 Ayuntamientos vascos 2030: desarrollo sostenible\, recuperación y transformación. 1. MODULUA: 2030 Agenda eta tokiko eraginak[:]
DESCRIPTION:
URL:https://noticias.eudel.eus/en/evento/programa-de-direccion-publica-local-2021-2022-ayuntamientos-vascos-2030-desarrollo-sostenible-recuperacion-y-transformacion-modulo-1/
LOCATION:EUDEL Bilbao\, Ertzilla kalea 13 / c/ Ercilla\, nº 13\, BILBAO\, 48009
END:VEVENT
BEGIN:VEVENT
DTSTART;TZID=Europe/Madrid:20211022T100000
DTEND;TZID=Europe/Madrid:20211022T110000
DTSTAMP:20260422T035140
CREATED:20211015T125800Z
LAST-MODIFIED:20211015T125800Z
UID:22256-1634896800-1634900400@noticias.eudel.eus
SUMMARY:[:es]Junta Directiva Bilbao Metropolitano-30[:eu]Bilbao Metropolitano-30ren Zuzendaritza Batzordea[:]
DESCRIPTION:
URL:https://noticias.eudel.eus/en/evento/junta-directiva-bilbao-metropolitano-30/
LOCATION:Bilbao
END:VEVENT
BEGIN:VEVENT
DTSTART;TZID=Europe/Madrid:20211022T100000
DTEND;TZID=Europe/Madrid:20211022T120000
DTSTAMP:20260422T035140
CREATED:20211015T125510Z
LAST-MODIFIED:20211015T125510Z
UID:22254-1634896800-1634904000@noticias.eudel.eus
SUMMARY:[:es]Junta de Gobierno de Elkarkidetza[:eu]Elkarkidetzako Gobernu Batzordea[:]
DESCRIPTION:
URL:https://noticias.eudel.eus/en/evento/junta-de-gobierno-de-elkarkidetza-4/
LOCATION:Bideokonferentzia bitartez egiten da / Se celebra a través de viodeoconferencia
END:VEVENT
BEGIN:VEVENT
DTSTART;TZID=Europe/Madrid:20211022T100000
DTEND;TZID=Europe/Madrid:20211022T120000
DTSTAMP:20260422T035140
CREATED:20211015T125940Z
LAST-MODIFIED:20211015T125940Z
UID:22258-1634896800-1634904000@noticias.eudel.eus
SUMMARY:[:es]Consejo Rector del Organismo Autónomo Academia Vasca de Policía y Emergencia[:eu]Polizia eta Larrialdetako Euskal Akademia Erakunde Autonomoaren Kontseilua[:]
DESCRIPTION:
URL:https://noticias.eudel.eus/en/evento/consejo-rector-del-organismo-autonomo-academia-vasca-de-policia-y-emergencia/
LOCATION:Bideokonferentzia bitartez egiten da / Se celebra a través de viodeoconferencia
END:VEVENT
END:VCALENDAR