BEGIN:VCALENDAR
VERSION:2.0
PRODID:-//EUDEL Noticias | Asociación de Municipios Vascos - ECPv6.5.1.3//NONSGML v1.0//EN
CALSCALE:GREGORIAN
METHOD:PUBLISH
X-ORIGINAL-URL:https://noticias.eudel.eus/en
X-WR-CALDESC:Events for EUDEL Noticias | Asociación de Municipios Vascos
REFRESH-INTERVAL;VALUE=DURATION:PT1H
X-Robots-Tag:noindex
X-PUBLISHED-TTL:PT1H
BEGIN:VTIMEZONE
TZID:Europe/Madrid
BEGIN:DAYLIGHT
TZOFFSETFROM:+0100
TZOFFSETTO:+0200
TZNAME:CEST
DTSTART:20210328T010000
END:DAYLIGHT
BEGIN:STANDARD
TZOFFSETFROM:+0200
TZOFFSETTO:+0100
TZNAME:CET
DTSTART:20211031T010000
END:STANDARD
END:VTIMEZONE
BEGIN:VEVENT
DTSTART;TZID=Europe/Madrid:20211216T090000
DTEND;TZID=Europe/Madrid:20211216T103000
DTSTAMP:20260422T003334
CREATED:20211210T114329Z
LAST-MODIFIED:20211210T114329Z
UID:22515-1639645200-1639650600@noticias.eudel.eus
SUMMARY:[:es]Comisión Territorial de Bizkaia de EUDEL[:eu]EUDELeko Bizkaiako Lurralde Batzordea [:]
DESCRIPTION:
URL:https://noticias.eudel.eus/en/evento/comision-territorial-de-bizkaia-de-eudel-17/
LOCATION:Bideokonferentzia bitartez egiten da / Se celebra a través de viodeoconferencia
END:VEVENT
BEGIN:VEVENT
DTSTART;TZID=Europe/Madrid:20211216T090000
DTEND;TZID=Europe/Madrid:20211216T140000
DTSTAMP:20260422T003334
CREATED:20210906T071000Z
LAST-MODIFIED:20211210T122356Z
UID:22135-1639645200-1639663200@noticias.eudel.eus
SUMMARY:[:es]Programa de Dirección Pública Local 2021-2022 Ayuntamientos vascos 2030: desarrollo sostenible\, recuperación y transformación. MÓDULO 2: Recuperación Económica y papel de los ayuntamientos vascos[:eu]Tokiko Zuzendaritza Publikoko Programa 2021-2022 Ayuntamientos vascos 2030: desarrollo sostenible\, recuperación y transformación. 2. MODULUA: Suspertze ekonomikoa eta EAEko udalen papera[:]
DESCRIPTION:
URL:https://noticias.eudel.eus/en/evento/programa-de-direccion-publica-local-2021-2022-ayuntamientos-vascos-2030-desarrollo-sostenible-recuperacion-y-transformacion-modulo-2-3/
LOCATION:EUDEL Bilbao\, Ertzilla kalea 13 / c/ Ercilla\, nº 13\, BILBAO\, 48009
END:VEVENT
BEGIN:VEVENT
DTSTART;TZID=Europe/Madrid:20211216T100000
DTEND;TZID=Europe/Madrid:20211216T113000
DTSTAMP:20260422T003334
CREATED:20211210T114608Z
LAST-MODIFIED:20211210T114608Z
UID:22517-1639648800-1639654200@noticias.eudel.eus
SUMMARY:[:es]Comisión Interinstitucional para la Inclusión Social[:eu]Gizarteratzeko Erakundeen arteko Batzordea[:]
DESCRIPTION:
URL:https://noticias.eudel.eus/en/evento/comision-interinstitucional-para-la-inclusion-social-2/
LOCATION:Bideokonferentzia bitartez egiten da / Se celebra a través de viodeoconferencia
END:VEVENT
BEGIN:VEVENT
DTSTART;TZID=Europe/Madrid:20211216T120000
DTEND;TZID=Europe/Madrid:20211216T130000
DTSTAMP:20260422T003334
CREATED:20211210T114758Z
LAST-MODIFIED:20211210T114758Z
UID:22519-1639656000-1639659600@noticias.eudel.eus
SUMMARY:[:es]Junta Directiva BM-30[:eu]BM-30 Zuzendaritza Batzordea[:]
DESCRIPTION:
URL:https://noticias.eudel.eus/en/evento/junta-directiva-bm-30-2/
LOCATION:Bilbao
END:VEVENT
BEGIN:VEVENT
DTSTART;TZID=Europe/Madrid:20211216T120000
DTEND;TZID=Europe/Madrid:20211216T130000
DTSTAMP:20260422T003334
CREATED:20211210T115011Z
LAST-MODIFIED:20211210T115011Z
UID:22521-1639656000-1639659600@noticias.eudel.eus
SUMMARY:[:es]Consejo Vasco para la Inclusión Social[:eu]Gizarteratzeko Euskal Kontseilua Batzordea[:]
DESCRIPTION:
URL:https://noticias.eudel.eus/en/evento/consejo-vasco-para-la-inclusion-social-2/
LOCATION:Bideokonferentzia bitartez egiten da / Se celebra a través de viodeoconferencia
END:VEVENT
BEGIN:VEVENT
DTSTART;TZID=Europe/Madrid:20211216T130000
DTEND;TZID=Europe/Madrid:20211216T150000
DTSTAMP:20260422T003334
CREATED:20211213T093124Z
LAST-MODIFIED:20211213T093124Z
UID:22535-1639659600-1639666800@noticias.eudel.eus
SUMMARY:[:es]Comisión Territorial de Álava de EUDEL[:eu]EUDELeko Arabako Lurralde Batzordea[:]
DESCRIPTION:
URL:https://noticias.eudel.eus/en/evento/comision-territorial-de-alava-de-eudel-9/
LOCATION:Bideokonferentzia bitartez egiten da / Se celebra a través de viodeoconferencia
END:VEVENT
BEGIN:VEVENT
DTSTART;TZID=Europe/Madrid:20211216T153000
DTEND;TZID=Europe/Madrid:20211216T170000
DTSTAMP:20260422T003334
CREATED:20211210T115118Z
LAST-MODIFIED:20211210T115118Z
UID:22523-1639668600-1639674000@noticias.eudel.eus
SUMMARY:[:es]HAKOBA[:eu]HAKOBA[:]
DESCRIPTION:
URL:https://noticias.eudel.eus/en/evento/hakoba-3/
LOCATION:Vitoria-Gasteiz\, ARABA
END:VEVENT
END:VCALENDAR