BEGIN:VCALENDAR
VERSION:2.0
PRODID:-//EUDEL Noticias | Asociación de Municipios Vascos - ECPv6.5.1.3//NONSGML v1.0//EN
CALSCALE:GREGORIAN
METHOD:PUBLISH
X-WR-CALNAME:EUDEL Noticias | Asociación de Municipios Vascos
X-ORIGINAL-URL:https://noticias.eudel.eus/en
X-WR-CALDESC:Events for EUDEL Noticias | Asociación de Municipios Vascos
REFRESH-INTERVAL;VALUE=DURATION:PT1H
X-Robots-Tag:noindex
X-PUBLISHED-TTL:PT1H
BEGIN:VTIMEZONE
TZID:Europe/Madrid
BEGIN:DAYLIGHT
TZOFFSETFROM:+0100
TZOFFSETTO:+0200
TZNAME:CEST
DTSTART:20220327T010000
END:DAYLIGHT
BEGIN:STANDARD
TZOFFSETFROM:+0200
TZOFFSETTO:+0100
TZNAME:CET
DTSTART:20221030T010000
END:STANDARD
END:VTIMEZONE
BEGIN:VEVENT
DTSTART;TZID=Europe/Madrid:20220209T093000
DTEND;TZID=Europe/Madrid:20220209T103000
DTSTAMP:20260421T193724
CREATED:20220204T132333Z
LAST-MODIFIED:20220204T132333Z
UID:22695-1644399000-1644402600@noticias.eudel.eus
SUMMARY:[:es]Comisión de Ordenación del Territorio del País Vasco [:eu]Euskal Autonomia Erkidegoko Lurralde Antolamendurako Batzordea[:]
DESCRIPTION:
URL:https://noticias.eudel.eus/en/evento/comision-de-ordenacion-del-territorio-del-pais-vasco-6/
LOCATION:Vitoria-Gasteiz\, ARABA
END:VEVENT
BEGIN:VEVENT
DTSTART;TZID=Europe/Madrid:20220209T103000
DTEND;TZID=Europe/Madrid:20220209T110000
DTSTAMP:20260421T193724
CREATED:20220204T132501Z
LAST-MODIFIED:20220204T132501Z
UID:22698-1644402600-1644404400@noticias.eudel.eus
SUMMARY:[:es]Comisión de Ordenación del Territorio del País Vasco. Álava.[:eu]Euskal Autonomia Erkidegoko Lurralde Antolamendurako Batzordea. Araba.[:]
DESCRIPTION:
URL:https://noticias.eudel.eus/en/evento/comision-de-ordenacion-del-territorio-del-pais-vasco-alava-4/
LOCATION:Vitoria-Gasteiz\, ARABA
END:VEVENT
BEGIN:VEVENT
DTSTART;TZID=Europe/Madrid:20220209T103000
DTEND;TZID=Europe/Madrid:20220209T110000
DTSTAMP:20260421T193724
CREATED:20220204T132619Z
LAST-MODIFIED:20220204T132619Z
UID:22700-1644402600-1644404400@noticias.eudel.eus
SUMMARY:[:es]Comisión de Ordenación del Territorio del País Vasco. Bizkaia.[:eu]Euskal Autonomia Erkidegoko Lurralde Antolamendurako Batzordea. Bizkaia.[:]
DESCRIPTION:
URL:https://noticias.eudel.eus/en/evento/comision-de-ordenacion-del-territorio-del-pais-vasco-bizkaia-7/
LOCATION:Vitoria-Gasteiz\, ARABA
END:VEVENT
BEGIN:VEVENT
DTSTART;TZID=Europe/Madrid:20220209T110000
DTEND;TZID=Europe/Madrid:20220209T113000
DTSTAMP:20260421T193724
CREATED:20220204T132720Z
LAST-MODIFIED:20220204T132732Z
UID:22702-1644404400-1644406200@noticias.eudel.eus
SUMMARY:[:es]Comisión de Ordenación del Territorio del País Vasco. Gipuzkoa.[:eu]Euskal Autonomia Erkidegoko Lurralde Antolamendurako Batzordea. Gipuzkoa.[:]
DESCRIPTION:
URL:https://noticias.eudel.eus/en/evento/comision-de-ordenacion-del-territorio-del-pais-vasco-gipuzkoa-4/
LOCATION:Vitoria-Gasteiz\, ARABA
END:VEVENT
BEGIN:VEVENT
DTSTART;TZID=Europe/Madrid:20220209T150000
DTEND;TZID=Europe/Madrid:20220209T170000
DTSTAMP:20260421T193724
CREATED:20220204T132912Z
LAST-MODIFIED:20220204T132912Z
UID:22704-1644418800-1644426000@noticias.eudel.eus
SUMMARY:[:es]Consejo Vasco de Universidades [:eu]Euskadiko Unibertsitate Kontseilua[:]
DESCRIPTION:
URL:https://noticias.eudel.eus/en/evento/consejo-vasco-de-universidades-6/
LOCATION:Bideokonferentzia bitartez egiten da / Se celebra a través de viodeoconferencia
END:VEVENT
END:VCALENDAR