BEGIN:VCALENDAR
VERSION:2.0
PRODID:-//EUDEL Noticias | Asociación de Municipios Vascos - ECPv6.5.1.3//NONSGML v1.0//EN
CALSCALE:GREGORIAN
METHOD:PUBLISH
X-WR-CALNAME:EUDEL Noticias | Asociación de Municipios Vascos
X-ORIGINAL-URL:https://noticias.eudel.eus/en
X-WR-CALDESC:Events for EUDEL Noticias | Asociación de Municipios Vascos
REFRESH-INTERVAL;VALUE=DURATION:PT1H
X-Robots-Tag:noindex
X-PUBLISHED-TTL:PT1H
BEGIN:VTIMEZONE
TZID:Europe/Madrid
BEGIN:DAYLIGHT
TZOFFSETFROM:+0100
TZOFFSETTO:+0200
TZNAME:CEST
DTSTART:20220327T010000
END:DAYLIGHT
BEGIN:STANDARD
TZOFFSETFROM:+0200
TZOFFSETTO:+0100
TZNAME:CET
DTSTART:20221030T010000
END:STANDARD
END:VTIMEZONE
BEGIN:VEVENT
DTSTART;TZID=Europe/Madrid:20220217T100000
DTEND;TZID=Europe/Madrid:20220217T113000
DTSTAMP:20260421T193709
CREATED:20220215T082600Z
LAST-MODIFIED:20220215T082600Z
UID:22770-1645092000-1645097400@noticias.eudel.eus
SUMMARY:[:es]Consejo Territorial de  Finanzas de Bizkaia[:eu]Bizkaiko Finantzen Lurralde Kontseilua[:]
DESCRIPTION:
URL:https://noticias.eudel.eus/en/evento/consejo-territorial-de-finanzas-de-bizkaia-9/
LOCATION:Bilbao
END:VEVENT
BEGIN:VEVENT
DTSTART;TZID=Europe/Madrid:20220217T153000
DTEND;TZID=Europe/Madrid:20220217T170000
DTSTAMP:20260421T193709
CREATED:20220211T104158Z
LAST-MODIFIED:20220211T104158Z
UID:22730-1645111800-1645117200@noticias.eudel.eus
SUMMARY:[:es]Comisión Permanente del  Consejo Escolar de Euskadi[:eu]Euskadiko Eskola Kontseiluaren Batzordea[:]
DESCRIPTION:
URL:https://noticias.eudel.eus/en/evento/comision-permanente-del-consejo-escolar-de-euskadi/
LOCATION:Bilbao
END:VEVENT
BEGIN:VEVENT
DTSTART;TZID=Europe/Madrid:20220217T160000
DTEND;TZID=Europe/Madrid:20220217T170000
DTSTAMP:20260421T193709
CREATED:20220214T141026Z
LAST-MODIFIED:20220214T141026Z
UID:22760-1645113600-1645117200@noticias.eudel.eus
SUMMARY:[:es]Consejo Territorial de Administración Local y Finanzas de Álava[:eu]Arabako Toki Administrazioko eta Finantzetako Lurralde Kontseilua[:]
DESCRIPTION:
URL:https://noticias.eudel.eus/en/evento/consejo-territorial-de-administracion-local-y-finanzas-de-alava-6/
LOCATION:videoconferencia
END:VEVENT
END:VCALENDAR