BEGIN:VCALENDAR
VERSION:2.0
PRODID:-//EUDEL Noticias | Asociación de Municipios Vascos - ECPv6.5.1.3//NONSGML v1.0//EN
CALSCALE:GREGORIAN
METHOD:PUBLISH
X-WR-CALNAME:EUDEL Noticias | Asociación de Municipios Vascos
X-ORIGINAL-URL:https://noticias.eudel.eus/en
X-WR-CALDESC:Events for EUDEL Noticias | Asociación de Municipios Vascos
REFRESH-INTERVAL;VALUE=DURATION:PT1H
X-Robots-Tag:noindex
X-PUBLISHED-TTL:PT1H
BEGIN:VTIMEZONE
TZID:Europe/Madrid
BEGIN:DAYLIGHT
TZOFFSETFROM:+0100
TZOFFSETTO:+0200
TZNAME:CEST
DTSTART:20220327T010000
END:DAYLIGHT
BEGIN:STANDARD
TZOFFSETFROM:+0200
TZOFFSETTO:+0100
TZNAME:CET
DTSTART:20221030T010000
END:STANDARD
END:VTIMEZONE
BEGIN:VEVENT
DTSTART;TZID=Europe/Madrid:20220531T133000
DTEND;TZID=Europe/Madrid:20220531T153000
DTSTAMP:20260421T121121
CREATED:20220527T081222Z
LAST-MODIFIED:20220606T070335Z
UID:23048-1654003800-1654011000@noticias.eudel.eus
SUMMARY:[:es]Comparecencia en Parlamento Vasco - Proyecto de Ley de Movilidad Sostenible de Euskadi[:eu]Agerraldia Eusko Legebiltzarrean - Euskadiko Mugikortasun Jasangarriaren Lege-proiektua[:]
DESCRIPTION:Sorry\, this entry is only available in ES and EU.
URL:https://noticias.eudel.eus/en/evento/comparecencia-en-parlamento-vasco-proyecto-de-ley-de-movilidad-sostenible-de-euskadi/
LOCATION:videoconferencia
END:VEVENT
BEGIN:VEVENT
DTSTART;TZID=Europe/Madrid:20220531T140000
DTEND;TZID=Europe/Madrid:20220531T153000
DTSTAMP:20260421T121121
CREATED:20220527T081431Z
LAST-MODIFIED:20220606T070514Z
UID:23050-1654005600-1654011000@noticias.eudel.eus
SUMMARY:[:es]Comparecencia en Parlamento Vasco - Proyecto de Ley del Estatuto de las Personas Consumidoras y Usuarias[:eu]Agerraldia Eusko Legebiltzarrean - Kontsumitzaileen eta erabiltzaileen estatutuaren Lege-proiektua[:]
DESCRIPTION:Sorry\, this entry is only available in ES and EU.
URL:https://noticias.eudel.eus/en/evento/comparecencia-en-parlamento-vasco-proyecto-de-ley-del-estatuto-de-las-personas-consumidoras-y-usuarias/
LOCATION:Vitoria-Gasteiz\, ARABA
END:VEVENT
BEGIN:VEVENT
DTSTART;TZID=Europe/Madrid:20220531T160000
DTEND;TZID=Europe/Madrid:20220531T180000
DTSTAMP:20260421T121121
CREATED:20220520T095226Z
LAST-MODIFIED:20220527T081515Z
UID:23029-1654012800-1654020000@noticias.eudel.eus
SUMMARY:[:es]Consejo Vasco de Servicios Sociales[:eu]Euskal Kontseiluaren osoko bilkura[:]
DESCRIPTION:
URL:https://noticias.eudel.eus/en/evento/consejo-vasco-de-servicios-sociales-3/
LOCATION:Vitoria-Gasteiz\, ARABA
END:VEVENT
END:VCALENDAR