BEGIN:VCALENDAR
VERSION:2.0
PRODID:-//EUDEL Noticias | Asociación de Municipios Vascos - ECPv6.5.1.3//NONSGML v1.0//EN
CALSCALE:GREGORIAN
METHOD:PUBLISH
X-WR-CALNAME:EUDEL Noticias | Asociación de Municipios Vascos
X-ORIGINAL-URL:https://noticias.eudel.eus/en
X-WR-CALDESC:Events for EUDEL Noticias | Asociación de Municipios Vascos
REFRESH-INTERVAL;VALUE=DURATION:PT1H
X-Robots-Tag:noindex
X-PUBLISHED-TTL:PT1H
BEGIN:VTIMEZONE
TZID:Europe/Madrid
BEGIN:DAYLIGHT
TZOFFSETFROM:+0100
TZOFFSETTO:+0200
TZNAME:CEST
DTSTART:20220327T010000
END:DAYLIGHT
BEGIN:STANDARD
TZOFFSETFROM:+0200
TZOFFSETTO:+0100
TZNAME:CET
DTSTART:20221030T010000
END:STANDARD
END:VTIMEZONE
BEGIN:VEVENT
DTSTART;TZID=Europe/Madrid:20220628T103000
DTEND;TZID=Europe/Madrid:20220628T120000
DTSTAMP:20260421T104207
CREATED:20220627T102653Z
LAST-MODIFIED:20220627T103119Z
UID:23269-1656412200-1656417600@noticias.eudel.eus
SUMMARY:[:es]Montehermoso (VITORIA-GASTEIZ). Jornada Cambio climático desde la perspectiva de género. Un reto local.[:eu]Montehermoso (VITORIA-GASTEIZ). Jardunaldia: Klima aldaketa genero ikuspegitik. Tokiko erronka.[:]
DESCRIPTION:Sorry\, this entry is only available in ES and EU.
URL:https://noticias.eudel.eus/en/evento/jornada-cambio-climatico-desde-la-perspectiva-de-genero-un-reto-local/
LOCATION:Vitoria-Gasteiz\, ARABA
END:VEVENT
BEGIN:VEVENT
DTSTART;TZID=Europe/Madrid:20220628T150000
DTEND;TZID=Europe/Madrid:20220628T170000
DTSTAMP:20260421T104207
CREATED:20220623T110648Z
LAST-MODIFIED:20220623T110648Z
UID:23263-1656428400-1656435600@noticias.eudel.eus
SUMMARY:[:es]Reunión procesos estabilización Administración Pública Local: Diputación Foral de Gipuzkoa - Comisión Territorial de Gipuzkoa de EUDEL[:eu]"Tokiko Administrazio Publikoa egonkortzeko prozesuak" bilera: Gipuzkoako Foru Aldundia - EUDELen Gipuzkoako Lurralde Batzordea[:]
DESCRIPTION:
URL:https://noticias.eudel.eus/en/evento/reunion-procesos-estabilizacion-administracion-publica-local-diputacion-foral-de-gipuzkoa-comision-territorial-de-gipuzkoa-de-eudel/
LOCATION:Donostia/San Sebastián
END:VEVENT
END:VCALENDAR