BEGIN:VCALENDAR
VERSION:2.0
PRODID:-//EUDEL Noticias | Asociación de Municipios Vascos - ECPv6.5.1.3//NONSGML v1.0//EN
CALSCALE:GREGORIAN
METHOD:PUBLISH
X-ORIGINAL-URL:https://noticias.eudel.eus/eu
X-WR-CALDESC:Events for EUDEL Noticias | Asociación de Municipios Vascos
REFRESH-INTERVAL;VALUE=DURATION:PT1H
X-Robots-Tag:noindex
X-PUBLISHED-TTL:PT1H
BEGIN:VTIMEZONE
TZID:Europe/Madrid
BEGIN:DAYLIGHT
TZOFFSETFROM:+0100
TZOFFSETTO:+0200
TZNAME:CEST
DTSTART:20170326T010000
END:DAYLIGHT
BEGIN:STANDARD
TZOFFSETFROM:+0200
TZOFFSETTO:+0100
TZNAME:CET
DTSTART:20171029T010000
END:STANDARD
END:VTIMEZONE
BEGIN:VEVENT
DTSTART;TZID=Europe/Madrid:20171109T104500
DTEND;TZID=Europe/Madrid:20171109T140000
DTSTAMP:20260426T013511
CREATED:20171205T162927Z
LAST-MODIFIED:20171205T162927Z
UID:17358-1510224300-1510236000@noticias.eudel.eus
SUMMARY:10:45 h. EUDEL Bilbao. Comisión Ejecutiva de EUDEL.10:45. EUDEL Bilbao. EUDELeko Batzorde Eragilea.
DESCRIPTION:
URL:https://noticias.eudel.eus/eu/evento/1045-h-eudel-bilbao-comision-ejecutiva-de-eudel-1045-eudel-bilbao-eudeleko-batzorde-eragilea/
LOCATION:ARABA
CATEGORIES:General
END:VEVENT
BEGIN:VEVENT
DTSTART;TZID=Europe/Madrid:20171109T120000
DTEND;TZID=Europe/Madrid:20171109T140000
DTSTAMP:20260426T013511
CREATED:20171205T162952Z
LAST-MODIFIED:20171205T162952Z
UID:17360-1510228800-1510236000@noticias.eudel.eus
SUMMARY:12:00 h. Vitoria-Gasteiz. Pleno de la Autoridad del Transporte de Euskadi.12:00. Euskadiko Garraio Agintaritzaren Osoko Bilkura.
DESCRIPTION:
URL:https://noticias.eudel.eus/eu/evento/1200-h-vitoria-gasteiz-pleno-de-la-autoridad-del-transporte-de-euskadi-1200-euskadiko-garraio-agintaritzaren-osoko-bilkura/
LOCATION:ARABA
CATEGORIES:General
END:VEVENT
END:VCALENDAR