BEGIN:VCALENDAR
VERSION:2.0
PRODID:-//EUDEL Noticias | Asociación de Municipios Vascos - ECPv6.5.1.3//NONSGML v1.0//EN
CALSCALE:GREGORIAN
METHOD:PUBLISH
X-ORIGINAL-URL:https://noticias.eudel.eus/eu
X-WR-CALDESC:Events for EUDEL Noticias | Asociación de Municipios Vascos
REFRESH-INTERVAL;VALUE=DURATION:PT1H
X-Robots-Tag:noindex
X-PUBLISHED-TTL:PT1H
BEGIN:VTIMEZONE
TZID:Europe/Madrid
BEGIN:DAYLIGHT
TZOFFSETFROM:+0100
TZOFFSETTO:+0200
TZNAME:CEST
DTSTART:20170326T010000
END:DAYLIGHT
BEGIN:STANDARD
TZOFFSETFROM:+0200
TZOFFSETTO:+0100
TZNAME:CET
DTSTART:20171029T010000
END:STANDARD
END:VTIMEZONE
BEGIN:VEVENT
DTSTART;TZID=Europe/Madrid:20171120T093000
DTEND;TZID=Europe/Madrid:20171120T110000
DTSTAMP:20260426T013342
CREATED:20171205T162759Z
LAST-MODIFIED:20171205T162759Z
UID:17352-1511170200-1511175600@noticias.eudel.eus
SUMMARY:09:30 h. Vitoria-Gasteiz. Jurado "Premio Emakunde a la Igualdad 2017".09:30. Vitoria-Gasteiz. Emakunderen Berdintasun Saria 2017” delakoaren Epaimahaia.
DESCRIPTION:
URL:https://noticias.eudel.eus/eu/evento/0930-h-vitoria-gasteiz-jurado-premio-emakunde-a-la-igualdad-2017-0930-vitoria-gasteiz-emakunderen-berdintasun-saria-2017-delakoaren-epaimahaia/
LOCATION:ARABA
CATEGORIES:General
END:VEVENT
END:VCALENDAR