BEGIN:VCALENDAR
VERSION:2.0
PRODID:-//EUDEL Noticias | Asociación de Municipios Vascos - ECPv6.5.1.3//NONSGML v1.0//EN
CALSCALE:GREGORIAN
METHOD:PUBLISH
X-WR-CALNAME:EUDEL Noticias | Asociación de Municipios Vascos
X-ORIGINAL-URL:https://noticias.eudel.eus/eu
X-WR-CALDESC:Events for EUDEL Noticias | Asociación de Municipios Vascos
REFRESH-INTERVAL;VALUE=DURATION:PT1H
X-Robots-Tag:noindex
X-PUBLISHED-TTL:PT1H
BEGIN:VTIMEZONE
TZID:Europe/Madrid
BEGIN:DAYLIGHT
TZOFFSETFROM:+0100
TZOFFSETTO:+0200
TZNAME:CEST
DTSTART:20170326T010000
END:DAYLIGHT
BEGIN:STANDARD
TZOFFSETFROM:+0200
TZOFFSETTO:+0100
TZNAME:CET
DTSTART:20171029T010000
END:STANDARD
END:VTIMEZONE
BEGIN:VEVENT
DTSTART;TZID=Europe/Madrid:20171122T100000
DTEND;TZID=Europe/Madrid:20171122T120000
DTSTAMP:20260426T013147
CREATED:20171205T162731Z
LAST-MODIFIED:20171205T162731Z
UID:17351-1511344800-1511352000@noticias.eudel.eus
SUMMARY:10:00 h. Vitoria-Gasteiz. Consejo para la promoción integral y participación social del pueblo gitano en el País Vasco.10:00. Vitoria-Gasteiz. Ijito herriaren erabateko sustapenerako eta partaidetza sozialerako kontseilua.
DESCRIPTION:
URL:https://noticias.eudel.eus/eu/evento/1000-h-vitoria-gasteiz-consejo-para-la-promocion-integral-y-participacion-social-del-pueblo-gitano-en-el-pais-vasco-1000-vitoria-gasteiz-ijito-herriaren-erabateko-sustapenerako-eta-partaidetza-s/
LOCATION:ARABA
CATEGORIES:General
END:VEVENT
BEGIN:VEVENT
DTSTART;TZID=Europe/Madrid:20171122T103000
DTEND;TZID=Europe/Madrid:20171122T120000
DTSTAMP:20260426T013147
CREATED:20171205T162720Z
LAST-MODIFIED:20171205T162720Z
UID:17350-1511346600-1511352000@noticias.eudel.eus
SUMMARY:10:30 h. Donostia/San Sebastián. Mesa Interinstitucional de Servicios Sociales de Gipuzkoa.10:30. Donostia. Gizarte Zerbitzuen Gipuzkoako Lurralde Erakunde Arteko Mahaia
DESCRIPTION:
URL:https://noticias.eudel.eus/eu/evento/1030-h-donostiasan-sebastian-mesa-interinstitucional-de-servicios-sociales-de-gipuzkoa-1030-donostia-gizarte-zerbitzuen-gipuzkoako-lurralde-erakunde-arteko-mahaia/
LOCATION:ARABA
CATEGORIES:General
END:VEVENT
END:VCALENDAR