BEGIN:VCALENDAR
VERSION:2.0
PRODID:-//EUDEL Noticias | Asociación de Municipios Vascos - ECPv6.5.1.3//NONSGML v1.0//EN
CALSCALE:GREGORIAN
METHOD:PUBLISH
X-ORIGINAL-URL:https://noticias.eudel.eus/eu
X-WR-CALDESC:Events for EUDEL Noticias | Asociación de Municipios Vascos
REFRESH-INTERVAL;VALUE=DURATION:PT1H
X-Robots-Tag:noindex
X-PUBLISHED-TTL:PT1H
BEGIN:VTIMEZONE
TZID:Europe/Madrid
BEGIN:DAYLIGHT
TZOFFSETFROM:+0100
TZOFFSETTO:+0200
TZNAME:CEST
DTSTART:20170326T010000
END:DAYLIGHT
BEGIN:STANDARD
TZOFFSETFROM:+0200
TZOFFSETTO:+0100
TZNAME:CET
DTSTART:20171029T010000
END:STANDARD
END:VTIMEZONE
BEGIN:VEVENT
DTSTART;TZID=Europe/Madrid:20171123T093000
DTEND;TZID=Europe/Madrid:20171123T170000
DTSTAMP:20260426T013343
CREATED:20171205T162813Z
LAST-MODIFIED:20171205T162813Z
UID:17353-1511429400-1511456400@noticias.eudel.eus
SUMMARY:09:30 h. EUDEL Bilbao (c/ Ercilla\, nº 13). Taller Europeo sobre Buenas prácticas de Gobernanza en Euskadi Europa.09:30 h. EUDEL Bilbao (Ertzilla kalea\, 13). Bilboko EUDELen ekitaldi aretoa\, Ercilla kaleko 13. zenbakia. Euskadin eta Europan Gobernantza Oneko praktika onei buruzko tailerra.
DESCRIPTION:Europako eta EAEko udalerrietako hautetsi eta teknikarien artean praktika onak trukatzeko mintegia eta lan-tailerra. Mintegiak Tokiko Gobernantza Onaren alorrak jorratuko ditu\, laneko mahaietan/taldeetan dinamika parte-hartzailea erabilita.EGITARAUA:09:00 – 09:30 Parte-hartzaileen izen-ematea.09:30 – 10:00 Instituzioen ongietorria. EUDELeko elkarteburu Imanol Landak hartuko du parte.10:00 – 12:30 1. SAIOA:  \n\nGobernantza Ona eta Berrikuntzako udal politikak EBn\n\nBerrikuntzako tokiko ekosistemak sortzen: esperientziak eta praktikak Europako udalerrietan. Tania Tukiainen doktorea\, Aaltoko Unibertsitateko (Finlandia) irakaslea. \n\nPraktika ona tokiko berrikuntzako politiketan. Moritz Petry jauna\, SÜDEIFELeko (Alemania) alkatea.\n\n 12:30 – 13:30 2. SAIOA: \n\nPraktika ona: Gobernantza Ona tokiko finantzetan eta aurrekontu-kudeaketan. Esko Lotvonen jauna\, ROMANIEVIko (Finlandia) alkatea.\n\n13:30 Bazkaltzeko atsedenaldia.15:00 – 16:00 3. SAIOA:  \n\nPraktika ona: Gobernantza ona hirigintzako toki politiketan eta aldaketa demografikoaren eragina. Estefan Lunte jauna\, MOULINSeko (Frantzia) alkateordea. \n\n16:00 –16:20 3. SAIOA:  \n\nPraktika ona: Gobernantza Ona tokiko gobernuen gizarte-politiketan. Margarita Kaufman andrea\, HAGENeko (Alemania) alkateordea.\n\n 17:00 AMAIERAKO ONDORIOAK
URL:https://noticias.eudel.eus/eu/evento/0930-h-eudel-bilbao-c-ercilla-no-13-taller-europeo-sobre-buenas-practicas-de-gobernanza-en-euskadi-europa-0930-h-eudel-bilbao-ertzilla-kalea-13-bilboko-eudelen-ekitaldi-aretoa-ercilla-ka/
LOCATION:ARABA
CATEGORIES:General
END:VEVENT
BEGIN:VEVENT
DTSTART;TZID=Europe/Madrid:20171123T100000
DTEND;TZID=Europe/Madrid:20171123T110000
DTSTAMP:20260426T013343
CREATED:20171205T162837Z
LAST-MODIFIED:20171205T162837Z
UID:17355-1511431200-1511434800@noticias.eudel.eus
SUMMARY:10.00 h. Ayuntamiento de Eibar. Presentación de la campaña interinstitucional Beldur Barik 2017 para la prevención de la violencia sexista entre la juventud   10.00 h. Eibarko Udaletxea. Gazteriaren artean indarkeria sexista prebenitzeko erakunde arteko Beldur Barik 2017 kanpainaren aurkezpena
DESCRIPTION:Datorren azaroaren 25eko Nazioarteko Emakumeen kontrako Indarkeriaren aurkako Egunaren inguruan\, bi egun lehenago\, Emakundek\, EUDELek eta Bizkaiko\, Gipuzkoako eta Arabako Foru Aldundiek Beldur Barik 2017 kanpaina aurkeztuko dute\, gazteriaren artean indarkeria sexista prebenitzeko erakunde arteko kanpaina\, hain zuzen ere. Prentsaurrekoa Eibarko Udaletxeko Biltzar aretoan izango da\, hilak 23\, goizeko 10:00etatik aurrera\, izan ere\, Eibarren egingo baita aurten Beldur Barik Topaketa. \nBertaratuko direnak: \n\n Miguel de los Toyos Nazabal\, Eibarreko alkatea\, EUDELen ordezkaria\n \n Izaskun Landaida\, Emakundeko zuzendaria\n Nekane Zeberio\, Arabako Diputatu Generalaren Kabineteko zuzendaria\nMaría Guijarro\, Bizkaiko Foru Aldundiko Berdintasunerako\, Lankidetzarako eta Dibertsitaterako zuzendari\nMiren Elgarrezta Gipuzkoako Foru aldundiko Berdintasun Zuzendaria
URL:https://noticias.eudel.eus/eu/evento/10-00-h-ayuntamiento-de-eibar-presentacion-de-la-campana-interinstitucional-beldur-barik-2017-para-la-prevencion-de-la-violencia-sexista-entre-la-juventud-10-00-h-eibarko-udaletxea-gazteriaren-a/
LOCATION:ARABA
CATEGORIES:General
END:VEVENT
BEGIN:VEVENT
DTSTART;TZID=Europe/Madrid:20171123T163000
DTEND;TZID=Europe/Madrid:20171123T180000
DTSTAMP:20260426T013343
CREATED:20171205T162708Z
LAST-MODIFIED:20171205T162708Z
UID:17349-1511454600-1511460000@noticias.eudel.eus
SUMMARY:16:30 h. Zamudio. Junta Directiva Innobasque.16:30. Zamudio. Innobasqueren Zuzendaritza Batzordea.
DESCRIPTION:
URL:https://noticias.eudel.eus/eu/evento/1630-h-zamudio-junta-directiva-innobasque-1630-zamudio-innobasqueren-zuzendaritza-batzordea/
LOCATION:ARABA
CATEGORIES:General
END:VEVENT
END:VCALENDAR