BEGIN:VCALENDAR
VERSION:2.0
PRODID:-//EUDEL Noticias | Asociación de Municipios Vascos - ECPv6.5.1.3//NONSGML v1.0//EN
CALSCALE:GREGORIAN
METHOD:PUBLISH
X-WR-CALNAME:EUDEL Noticias | Asociación de Municipios Vascos
X-ORIGINAL-URL:https://noticias.eudel.eus/eu
X-WR-CALDESC:Events for EUDEL Noticias | Asociación de Municipios Vascos
REFRESH-INTERVAL;VALUE=DURATION:PT1H
X-Robots-Tag:noindex
X-PUBLISHED-TTL:PT1H
BEGIN:VTIMEZONE
TZID:Europe/Madrid
BEGIN:DAYLIGHT
TZOFFSETFROM:+0100
TZOFFSETTO:+0200
TZNAME:CEST
DTSTART:20170326T010000
END:DAYLIGHT
BEGIN:STANDARD
TZOFFSETFROM:+0200
TZOFFSETTO:+0100
TZNAME:CET
DTSTART:20171029T010000
END:STANDARD
END:VTIMEZONE
BEGIN:VEVENT
DTSTART;TZID=Europe/Madrid:20171129T093000
DTEND;TZID=Europe/Madrid:20171129T140000
DTSTAMP:20260426T001325
CREATED:20171205T162825Z
LAST-MODIFIED:20171205T162825Z
UID:17354-1511947800-1511964000@noticias.eudel.eus
SUMMARY:09:30 h. Donostia/San Sebastián (Museo San Telmo). Jornada: La Gobernanza Multinivel\, la Paradiplomacia y el papel de los entes subestatales en la UE: Una nueva apuesta por una Europa de abajo a arriba09:30. Donosti (San Telmo museoan). Ihardunaldia: Maila askotako gobernantza\, paradiplomazia eta estatuz azpiko erakundeen zeregina EBn: behetik gorako Europaren aldeko apustua
DESCRIPTION:Euskal Autonomia Erkidegoko hiru hiriburuetan egingo den “Herritarrekin hizketan; Europaren etorkizunari buruzko hausnarketa bat” izeneko programaren barruan\, Donostian egitekoa den kafe-hizketaldian landuko den gaia gaurkotasun handiko gaia da Europan\, eta EBren sorrerako balioekin egiten du bat\, non demokrazia\, askatasuna eta giza eskubideak batera doazen herritarren Europa lortzeko bidean. Horixe da Europako proiektuaren asmo handia\, nahiz eta\, gaur egun\, nortasun-krisi larri batean sartuta egon. Behetik gora eraikitzen joan ahala gero eta legitimitate gehiago eskuratuko duen proiektua izango da; izan ere\, estatuz azpiko lurralde-erakundeek gero eta garrantzi handiagoa izango dute Europa integratuago bat lortuko duen aldaketaren eragile legitimatzaile gisa\, gero eta interdependenteagoa den mundu honetan\, azkeneko joera protekzionistak gorabehera\, non soft diplomazia edo paradiplomazia izango den eraldaketaren eragile nagusi. \nEGITARAUA
URL:https://noticias.eudel.eus/eu/evento/0930-h-donostiasan-sebastian-museo-san-telmo-jornada-la-gobernanza-multinivel-la-paradiplomacia-y-el-papel-de-los-entes-subestatales-en-la-ue-una-nueva-apuesta-por-una-europa-de-abajo-a-arrib/
LOCATION:ARABA
CATEGORIES:General
END:VEVENT
BEGIN:VEVENT
DTSTART;TZID=Europe/Madrid:20171129T163000
DTEND;TZID=Europe/Madrid:20171129T193000
DTSTAMP:20260426T001325
CREATED:20171205T163158Z
LAST-MODIFIED:20171205T163158Z
UID:17368-1511973000-1511983800@noticias.eudel.eus
SUMMARY:16:30 h. Durango. Taller de Coachig para el Liderazgo.16:30. Durango. Lidergorako Coachig tailerra.
DESCRIPTION:
URL:https://noticias.eudel.eus/eu/evento/1630-h-durango-taller-de-coachig-para-el-liderazgo-1630-durango-lidergorako-coachig-tailerra-3/
LOCATION:ARABA
CATEGORIES:General
END:VEVENT
END:VCALENDAR