BEGIN:VCALENDAR
VERSION:2.0
PRODID:-//EUDEL Noticias | Asociación de Municipios Vascos - ECPv6.5.1.3//NONSGML v1.0//EN
CALSCALE:GREGORIAN
METHOD:PUBLISH
X-ORIGINAL-URL:https://noticias.eudel.eus/eu
X-WR-CALDESC:Events for EUDEL Noticias | Asociación de Municipios Vascos
REFRESH-INTERVAL;VALUE=DURATION:PT1H
X-Robots-Tag:noindex
X-PUBLISHED-TTL:PT1H
BEGIN:VTIMEZONE
TZID:Europe/Madrid
BEGIN:DAYLIGHT
TZOFFSETFROM:+0100
TZOFFSETTO:+0200
TZNAME:CEST
DTSTART:20170326T010000
END:DAYLIGHT
BEGIN:STANDARD
TZOFFSETFROM:+0200
TZOFFSETTO:+0100
TZNAME:CET
DTSTART:20171029T010000
END:STANDARD
END:VTIMEZONE
BEGIN:VEVENT
DTSTART;TZID=Europe/Madrid:20171215T100000
DTEND;TZID=Europe/Madrid:20171215T120000
DTSTAMP:20260425T225729
CREATED:20180426T153545Z
LAST-MODIFIED:20180426T153545Z
UID:18163-1513332000-1513339200@noticias.eudel.eus
SUMMARY:10:00 h. Vitoria-Gasteiz. Consejo Vasco de Cooperación para el Desarrollo.10:00. Vitoria-Gasteiz. Garapenerako Lankidetzaren Euskal Kontseilua.
DESCRIPTION:
URL:https://noticias.eudel.eus/eu/evento/1000-h-vitoria-gasteiz-consejo-vasco-de-cooperacion-para-el-desarrollo-2/
LOCATION:ARABA
CATEGORIES:General
END:VEVENT
END:VCALENDAR