BEGIN:VCALENDAR
VERSION:2.0
PRODID:-//EUDEL Noticias | Asociación de Municipios Vascos - ECPv6.5.1.3//NONSGML v1.0//EN
CALSCALE:GREGORIAN
METHOD:PUBLISH
X-WR-CALNAME:EUDEL Noticias | Asociación de Municipios Vascos
X-ORIGINAL-URL:https://noticias.eudel.eus/eu
X-WR-CALDESC:Events for EUDEL Noticias | Asociación de Municipios Vascos
REFRESH-INTERVAL;VALUE=DURATION:PT1H
X-Robots-Tag:noindex
X-PUBLISHED-TTL:PT1H
BEGIN:VTIMEZONE
TZID:Europe/Madrid
BEGIN:DAYLIGHT
TZOFFSETFROM:+0100
TZOFFSETTO:+0200
TZNAME:CEST
DTSTART:20170326T010000
END:DAYLIGHT
BEGIN:STANDARD
TZOFFSETFROM:+0200
TZOFFSETTO:+0100
TZNAME:CET
DTSTART:20171029T010000
END:STANDARD
END:VTIMEZONE
BEGIN:VEVENT
DTSTART;TZID=Europe/Madrid:20171219T163000
DTEND;TZID=Europe/Madrid:20171219T183000
DTSTAMP:20260426T001323
CREATED:20171205T163054Z
LAST-MODIFIED:20171218T161231Z
UID:17364-1513701000-1513708200@noticias.eudel.eus
SUMMARY:[:es]Errenteria. Red de electas Basqueskola.[:eu]16:30. Errenteria. Basqueskola emakume hautetsien sarea.[:]
DESCRIPTION:
URL:https://noticias.eudel.eus/eu/evento/1630-h-errenteria-red-de-electas-basqueskola-1630-errenteria-basqueskola-emakume-hautetsien-sarea/
LOCATION:ARABA
CATEGORIES:General
END:VEVENT
BEGIN:VEVENT
DTSTART;TZID=Europe/Madrid:20171219T163000
DTEND;TZID=Europe/Madrid:20171219T193000
DTSTAMP:20260426T001323
CREATED:20171205T163119Z
LAST-MODIFIED:20171218T161226Z
UID:17366-1513701000-1513711800@noticias.eudel.eus
SUMMARY:[:es]Durango. Taller de Coachig para el Liderazgo.[:eu]16:30. Durango. Lidergorako Coachig tailerra.[:]
DESCRIPTION:Ez daukagu sarrera honen edukia hizkuntza honetan\, barkatu eragozpenak.
URL:https://noticias.eudel.eus/eu/evento/1630-h-durango-taller-de-coachig-para-el-liderazgo-1630-durango-lidergorako-coachig-tailerra/
LOCATION:ARABA
CATEGORIES:General
END:VEVENT
END:VCALENDAR