BEGIN:VCALENDAR
VERSION:2.0
PRODID:-//EUDEL Noticias | Asociación de Municipios Vascos - ECPv6.5.1.3//NONSGML v1.0//EN
CALSCALE:GREGORIAN
METHOD:PUBLISH
X-WR-CALNAME:EUDEL Noticias | Asociación de Municipios Vascos
X-ORIGINAL-URL:https://noticias.eudel.eus/eu
X-WR-CALDESC:Events for EUDEL Noticias | Asociación de Municipios Vascos
REFRESH-INTERVAL;VALUE=DURATION:PT1H
X-Robots-Tag:noindex
X-PUBLISHED-TTL:PT1H
BEGIN:VTIMEZONE
TZID:Europe/Madrid
BEGIN:DAYLIGHT
TZOFFSETFROM:+0100
TZOFFSETTO:+0200
TZNAME:CEST
DTSTART:20180325T010000
END:DAYLIGHT
BEGIN:STANDARD
TZOFFSETFROM:+0200
TZOFFSETTO:+0100
TZNAME:CET
DTSTART:20181028T010000
END:STANDARD
END:VTIMEZONE
BEGIN:VEVENT
DTSTART;TZID=Europe/Madrid:20180118T103000
DTEND;TZID=Europe/Madrid:20180118T110000
DTSTAMP:20260425T225552
CREATED:20180426T153543Z
LAST-MODIFIED:20180426T153543Z
UID:18145-1516271400-1516273200@noticias.eudel.eus
SUMMARY:10:30 h. Lehendakaritza - Vitoria-Gasteiz. Firma del Pacto interinstitucional por la Familia y la Infancia\, entre el Lehendakari\, Presidente de EUDEL y diputados generales10:30. Lehendakaritza - Vitoria-Gasteiz. Familia eta Haurtzoaren aldeko euskal itunaren Sinadura Lehendakariarekin\, EUDELeko elkartebuarekin eta diputatu nagusiekin.
DESCRIPTION:
URL:https://noticias.eudel.eus/eu/evento/1030-h-lehendakaritza-vitoria-gasteiz-firma-del-pacto-interinstitucional-por-la-familia-y-la-infancia-entre-el-lehendakari-presidente-de-eudel-y-diputados-generales/
LOCATION:ARABA
CATEGORIES:General
END:VEVENT
BEGIN:VEVENT
DTSTART;TZID=Europe/Madrid:20180118T150000
DTEND;TZID=Europe/Madrid:20180118T183000
DTSTAMP:20260425T225552
CREATED:20180426T153544Z
LAST-MODIFIED:20180426T153544Z
UID:18152-1516287600-1516300200@noticias.eudel.eus
SUMMARY:15:00 h. Soria. Comité Director del Consejo de Municipios y Regiones de Europa (CMRE)15:00. Soria. Europako Udal eta Eskualdeen Kontseiluaren Batzorde Gidatzailea.
DESCRIPTION:
URL:https://noticias.eudel.eus/eu/evento/1500-h-soria-comite-director-del-consejo-de-municipios-y-regiones-de-europa-cmre/
LOCATION:ARABA
CATEGORIES:General
END:VEVENT
END:VCALENDAR