BEGIN:VCALENDAR
VERSION:2.0
PRODID:-//EUDEL Noticias | Asociación de Municipios Vascos - ECPv6.5.1.3//NONSGML v1.0//EN
CALSCALE:GREGORIAN
METHOD:PUBLISH
X-ORIGINAL-URL:https://noticias.eudel.eus/eu
X-WR-CALDESC:Events for EUDEL Noticias | Asociación de Municipios Vascos
REFRESH-INTERVAL;VALUE=DURATION:PT1H
X-Robots-Tag:noindex
X-PUBLISHED-TTL:PT1H
BEGIN:VTIMEZONE
TZID:Europe/Madrid
BEGIN:DAYLIGHT
TZOFFSETFROM:+0100
TZOFFSETTO:+0200
TZNAME:CEST
DTSTART:20180325T010000
END:DAYLIGHT
BEGIN:STANDARD
TZOFFSETFROM:+0200
TZOFFSETTO:+0100
TZNAME:CET
DTSTART:20181028T010000
END:STANDARD
END:VTIMEZONE
BEGIN:VEVENT
DTSTART;TZID=Europe/Madrid:20180119T093000
DTEND;TZID=Europe/Madrid:20180119T140000
DTSTAMP:20260425T213138
CREATED:20180426T153544Z
LAST-MODIFIED:20180426T153544Z
UID:18151-1516354200-1516370400@noticias.eudel.eus
SUMMARY:09:30 h. Soria. Comité Director del Consejo de Municipios y Regiones de Europa (CMRE)09:30. Soria. Europako Udal eta Eskualdeen Kontseiluaren Batzorde Gidatzailea.
DESCRIPTION:
URL:https://noticias.eudel.eus/eu/evento/0930-h-soria-comite-director-del-consejo-de-municipios-y-regiones-de-europa-cmre/
LOCATION:ARABA
CATEGORIES:General
END:VEVENT
BEGIN:VEVENT
DTSTART;TZID=Europe/Madrid:20180119T113000
DTEND;TZID=Europe/Madrid:20180119T133000
DTSTAMP:20260425T213138
CREATED:20180426T153543Z
LAST-MODIFIED:20180426T153543Z
UID:18144-1516361400-1516368600@noticias.eudel.eus
SUMMARY:11:30 h. Vitoria-Gasteiz. Consejo de participación de las víctimas de terrorismo.11:30. Vitoria-Gasteiz. Terrorismoaren Biktimen Partaidetzarako Euskal Kontseilua.
DESCRIPTION:
URL:https://noticias.eudel.eus/eu/evento/1130-h-vitoria-gasteiz-consejo-de-participacion-de-las-victimas-de-terrorismo/
LOCATION:ARABA
CATEGORIES:General
END:VEVENT
END:VCALENDAR