BEGIN:VCALENDAR
VERSION:2.0
PRODID:-//EUDEL Noticias | Asociación de Municipios Vascos - ECPv6.5.1.3//NONSGML v1.0//EN
CALSCALE:GREGORIAN
METHOD:PUBLISH
X-WR-CALNAME:EUDEL Noticias | Asociación de Municipios Vascos
X-ORIGINAL-URL:https://noticias.eudel.eus/eu
X-WR-CALDESC:Events for EUDEL Noticias | Asociación de Municipios Vascos
REFRESH-INTERVAL;VALUE=DURATION:PT1H
X-Robots-Tag:noindex
X-PUBLISHED-TTL:PT1H
BEGIN:VTIMEZONE
TZID:Europe/Madrid
BEGIN:DAYLIGHT
TZOFFSETFROM:+0100
TZOFFSETTO:+0200
TZNAME:CEST
DTSTART:20180325T010000
END:DAYLIGHT
BEGIN:STANDARD
TZOFFSETFROM:+0200
TZOFFSETTO:+0100
TZNAME:CET
DTSTART:20181028T010000
END:STANDARD
END:VTIMEZONE
BEGIN:VEVENT
DTSTART;TZID=Europe/Madrid:20180126T110000
DTEND;TZID=Europe/Madrid:20180126T130000
DTSTAMP:20260425T225550
CREATED:20180426T153542Z
LAST-MODIFIED:20180426T153542Z
UID:18132-1516964400-1516971600@noticias.eudel.eus
SUMMARY:11:00 h. Bilbao Palacio Euskalduna. Ibon Uribe (Igualdad EUDEL/CMRE) participa en Dialogo con Comisaria Europea & Mesa Igualdad11:00. Bilboko Euskalduna Jauregian. Ibon Uribe\, Berdintasunerako EUDEL/ CMRE-ko ordezkaria Elkarrizketara Marianne Thyssen-ekin & Berdintasunari buruzko elkarrizketan parte hartuko du.
DESCRIPTION:Lekua: bi ekitaldiak Euskalduna Jauregiko A3 aretoan izango dira.\n\nAntolatzailea: Novia Salcedo Fundazioa. \n Partehartzaileak: (EUDEL) Ibon Uribe\, Galdakaoko alkatea\, EUDEL eta CMREko berdintasunerako ordezkaria \n-Marianne Thyssen Enplegu eta Gizarte Gaietako eta Laneko Gaitasunetako eta Mugikortasuneko Komisario Europarra\, \n– Beatriz Artolazabal Enplegu eta Gizarte Politika Sailburua\, \n– Roberto Larrañaga Confebaskeko presidentea\, \n– Cristina Mendia Mutualiako Berdintasun Zuzendaria\, \n– Begoña Marañón Euskadiko SER Kateko zuzendaria \nHerritarren arteko Elkarrizketara Marianne Thyssen-ekin & Berdintasunari buruzko elkarrizketa \nDatorren urtarrilaren 26an\, Novia Salcedo Fundazioan\, Marianne Thyssen Enplegu eta Gizarte Gaietako eta Laneko Gaitasunetako eta Mugikortasuneko Komisario Europarra jasoko du.Ondoren\, jende aurreko bi ekitaldi izango dira. \n\n11:00etatik 12:00etara: Herritarren Elkarrizketa\n12:30etik 14:00etara: Mahai ingurua ”Berdintasun eredu baterantz ODS 5\, ODS8 y ODS10”. Cristina Gallach gure patroiak moderatuko du\, eta partaideen artean Beatriz Artolazabal Enplegu eta Gizarte Politika Sailburua\, Roberto Larrañaga Confebaskeko presidentea\,Ibon Uribe CMRE  eta EUDEL-ko ordezkaria\,  Cristina Mendia Mutualiako Berdintasun Zuzendaria\,  eta Begoña Marañón Euskadiko SER Kateko zuzendaria egongo dira\n\nEGITARAUA eta informazio gehiago: http://www.noviasalcedo.es/eu/dialogo-ciudadano-con-la-comisaria-europea-marianne-thyssen-mesa-redonda-sobre-igualdad/
URL:https://noticias.eudel.eus/eu/evento/1100-h-bilbao-palacio-euskalduna-ibon-uribe-igualdad-eudelcmre-participa-en-dialogo-con-comisaria-europea-mesa-igualdad/
LOCATION:ARABA
CATEGORIES:General
END:VEVENT
END:VCALENDAR