BEGIN:VCALENDAR
VERSION:2.0
PRODID:-//EUDEL Noticias | Asociación de Municipios Vascos - ECPv6.5.1.3//NONSGML v1.0//EN
CALSCALE:GREGORIAN
METHOD:PUBLISH
X-ORIGINAL-URL:https://noticias.eudel.eus/eu
X-WR-CALDESC:Events for EUDEL Noticias | Asociación de Municipios Vascos
REFRESH-INTERVAL;VALUE=DURATION:PT1H
X-Robots-Tag:noindex
X-PUBLISHED-TTL:PT1H
BEGIN:VTIMEZONE
TZID:Europe/Madrid
BEGIN:DAYLIGHT
TZOFFSETFROM:+0100
TZOFFSETTO:+0200
TZNAME:CEST
DTSTART:20180325T010000
END:DAYLIGHT
BEGIN:STANDARD
TZOFFSETFROM:+0200
TZOFFSETTO:+0100
TZNAME:CET
DTSTART:20181028T010000
END:STANDARD
END:VTIMEZONE
BEGIN:VEVENT
DTSTART;TZID=Europe/Madrid:20180301T110000
DTEND;TZID=Europe/Madrid:20180301T123000
DTSTAMP:20260425T200000
CREATED:20180426T153541Z
LAST-MODIFIED:20180426T153541Z
UID:18108-1519902000-1519907400@noticias.eudel.eus
SUMMARY:11:00 h. EUDEL Bilbao (c/ Ercilla\, 13). Sesión informativa 01/03/18 POLICIA LOCAL: Segundo Proceso selectivo unificado11:00. EUDEL Bilbao (Ertzilla kalea\, 13). Informazio saioa18/03/01 UDALTZAINGOA: Bigarren hautaketa-prozesu bateratua
DESCRIPTION:Antolatzaileak: EUDEL – Polizia eta Larrialdietako Euskal Akademia – Segurtasun Saila (EJ-GV) \nEguna: osteguna\, martxoak 1Lekua: EUDELen ekitaldi aretoa (Ercilla kalea 13\, Bilbo)Ordutegia: 11:00-12:30\, gutxi gorabeheraHartzaileak: Euskadiko udaletako politikari eta teknikariak. \nEusko Jaurlaritzaren Segurtasun Sailaren eta EUDEL-Euskadiko Udalen Elkartearen artean lankidetza hitzarmena sinatu da\, Udaltzaingoaren alorrean. Hautaketa eta Prestaketa delako taldearen barruan\, modu bateratuan lan egin da\, udalei –euren borondatez– Bigarren hautaketa-prozesu bateratura gehitzea eskaintzeko\, Udaltzaingoko oinarrizko mailako agenteen sailkapenean sartzeko. \nUdalei borondatezko prozesu horren inguruko informazio zehatz eta zuzena (abantailak\, atxikitzeko modua eta prozedura\, egutegia\, etab.) eskaintzeko xedez\, udal arduradunei gonbit egiten zaie EUDELek\, Polizia eta Larrialdietako Euskal Akademiak eta Segurtasun Sailak berak  antolatutako informazio-saioan parte hartzera. Saioa martxoaren 1an (osteguna) izango da\, 11:00etan\, Bilboko Eudelen (Ercilla kaleko 13. zenbakiko ekitaldi aretoa). \nHartzaileak: Informazio-saioa politikariei zein teknikariei (Alkateak\, Zinegotziak\, Idazkariak\, Segurtasun/Udaltzaingo alorrak\, Giza Baliabideak\, etab.) dago zuzenduta\, eta udal bakoitzak egokien iritzako dituen ordezkariak bidal ditzake. \nHIZLARIAK: \n – Ager Izagirre\, EUDEL\, Mungiako alkatea– Rodrigo Gartzia\, EJ-GV\, Segurtasuna Koordinatzeko Zuzendaria– Aitor Lete\, EJ-GV\, Udaltzaingoak Koordinatzeko Arlo Burua– Josu González Polizia eta Larrialdietako Euskal Akademia\, Langileak kudeatzako eta Araubide Juridiko burua.\nJorratuko diren gaiak: \n•    Kudeaketa-aginduaren hitzarmen-proposamena•    Hautaketa-prozesuaren oinarrien proposamena•    Prozesuaren kronograma \nDeialdia
URL:https://noticias.eudel.eus/eu/evento/1100-h-eudel-bilbao-c-ercilla-13-sesion-informativa-010318-policia-local-segundo-proceso-selectivo-unificado/
LOCATION:ARABA
CATEGORIES:General
END:VEVENT
BEGIN:VEVENT
DTSTART;TZID=Europe/Madrid:20180301T110000
DTEND;TZID=Europe/Madrid:20180301T130000
DTSTAMP:20260425T200000
CREATED:20180426T153541Z
LAST-MODIFIED:20180426T153541Z
UID:18111-1519902000-1519909200@noticias.eudel.eus
SUMMARY:11:00 h. Vitoria-Gasteiz. Consejo de Sanidad de Euskadi11:00. Vitoria-Gasteiz. Euskadiko Osasun Kontseilua.
DESCRIPTION:
URL:https://noticias.eudel.eus/eu/evento/1100-h-vitoria-gasteiz-consejo-de-sanidad-de-euskadi/
LOCATION:ARABA
CATEGORIES:General
END:VEVENT
END:VCALENDAR