BEGIN:VCALENDAR
VERSION:2.0
PRODID:-//EUDEL Noticias | Asociación de Municipios Vascos - ECPv6.5.1.3//NONSGML v1.0//EN
CALSCALE:GREGORIAN
METHOD:PUBLISH
X-WR-CALNAME:EUDEL Noticias | Asociación de Municipios Vascos
X-ORIGINAL-URL:https://noticias.eudel.eus/eu
X-WR-CALDESC:Events for EUDEL Noticias | Asociación de Municipios Vascos
REFRESH-INTERVAL;VALUE=DURATION:PT1H
X-Robots-Tag:noindex
X-PUBLISHED-TTL:PT1H
BEGIN:VTIMEZONE
TZID:Europe/Madrid
BEGIN:DAYLIGHT
TZOFFSETFROM:+0100
TZOFFSETTO:+0200
TZNAME:CEST
DTSTART:20180325T010000
END:DAYLIGHT
BEGIN:STANDARD
TZOFFSETFROM:+0200
TZOFFSETTO:+0100
TZNAME:CET
DTSTART:20181028T010000
END:STANDARD
END:VTIMEZONE
BEGIN:VEVENT
DTSTART;TZID=Europe/Madrid:20180306T080000
DTEND;TZID=Europe/Madrid:20180306T171500
DTSTAMP:20260425T195806
CREATED:20180426T153543Z
LAST-MODIFIED:20180426T153543Z
UID:18138-1520323200-1520356500@noticias.eudel.eus
SUMMARY:08:00 h. Irun Ficoba. UHINAK III. Congreso Transfronterizo sobre Cambio Climático y Litoral.08:00. Ficoban (Irunen). Klima Aldaketa eta Itsasertzari buruzko mugaz gaindiko III. Kongresua.
DESCRIPTION:UHINAK Klima Aldaketa eta Itsasertzari buruzko III. Kongresua \n UHINAK Klima Aldaketa eta Itsasertzari buruzko mugaz gaindiko III. Kongresuaren hirugarren edizioa 2018.eko martxoaren 6 eta 7an izango da Ficoban\, Irunen. Kongresuaren antolatzaileak Ficoba Fundazioa eta Azti Teknalia dira. \nUhinak\, aldaketa klimatikoak eta muturreko gertakariek itsasertzean duten eraginari buruzko mugaz gaindiko kongresua da. Kongresuaren helburua klima aldaketari aurre egiteko kudeatzaileen beharrak ezagutzea da eta mundu zientifikoak behar horiek asetzeko zein ekarpen dituen. Horretarako Uhinak-ek alderdi inplikatu guztiak (zientzialariak\, teknikoak eta administrazioak) biltzen dituen diziplina anitzeko ikuspegia proposatzen du. \nKongresuak 12 hitzaldi gonbidatu\, beste 25 ahozko aurkezpen eta 8 poster izango ditu eta egitarauak entzute handiko hizlariak bilduko ditu. Kontsultatu hemen kongresuaren egitaraua \nKongresuan izena eman ezazu uztailaren 31a baino lehen eta inskripzio aurreratuentzako prezio berezia izango duzu. Sar zaitez hemen kongresuan izena emateko
URL:https://noticias.eudel.eus/eu/evento/0800-h-irun-ficoba-uhinak-iii-congreso-transfronterizo-sobre-cambio-climatico-y-litoral/
LOCATION:ARABA
CATEGORIES:General
END:VEVENT
BEGIN:VEVENT
DTSTART;TZID=Europe/Madrid:20180306T123000
DTEND;TZID=Europe/Madrid:20180306T140000
DTSTAMP:20260425T195806
CREATED:20180426T153540Z
LAST-MODIFIED:20180426T153540Z
UID:18104-1520339400-1520344800@noticias.eudel.eus
SUMMARY:12:30 h. Vitoria-Gasteiz. Consejo Asesor de Atención Primaria.12:30. Vitoria-Gasteiz. Lehen mailako arretako Aholku Kontseilua.
DESCRIPTION:
URL:https://noticias.eudel.eus/eu/evento/1230-h-vitoria-gasteiz-consejo-asesor-de-atencion-primaria/
LOCATION:ARABA
CATEGORIES:General
END:VEVENT
END:VCALENDAR