BEGIN:VCALENDAR
VERSION:2.0
PRODID:-//EUDEL Noticias | Asociación de Municipios Vascos - ECPv6.5.1.3//NONSGML v1.0//EN
CALSCALE:GREGORIAN
METHOD:PUBLISH
X-WR-CALNAME:EUDEL Noticias | Asociación de Municipios Vascos
X-ORIGINAL-URL:https://noticias.eudel.eus/eu
X-WR-CALDESC:Events for EUDEL Noticias | Asociación de Municipios Vascos
REFRESH-INTERVAL;VALUE=DURATION:PT1H
X-Robots-Tag:noindex
X-PUBLISHED-TTL:PT1H
BEGIN:VTIMEZONE
TZID:Europe/Madrid
BEGIN:DAYLIGHT
TZOFFSETFROM:+0100
TZOFFSETTO:+0200
TZNAME:CEST
DTSTART:20180325T010000
END:DAYLIGHT
BEGIN:STANDARD
TZOFFSETFROM:+0200
TZOFFSETTO:+0100
TZNAME:CET
DTSTART:20181028T010000
END:STANDARD
END:VTIMEZONE
BEGIN:VEVENT
DTSTART;TZID=Europe/Madrid:20180326T110000
DTEND;TZID=Europe/Madrid:20180326T130000
DTSTAMP:20260425T171358
CREATED:20180426T153539Z
LAST-MODIFIED:20180426T153539Z
UID:18087-1522062000-1522069200@noticias.eudel.eus
SUMMARY:10:00 h. Vitoria-Gasteiz. Consejo Vasco para la Promoción de la Accesibilidad.10:00. Vitoria-Gastez. Irisgarritasuna Sustatzeko Euskal Kontseilua.
DESCRIPTION:
URL:https://noticias.eudel.eus/eu/evento/1000-h-vitoria-gasteiz-consejo-vasco-para-la-promocion-de-la-accesibilidad/
LOCATION:ARABA
CATEGORIES:General
END:VEVENT
BEGIN:VEVENT
DTSTART;TZID=Europe/Madrid:20180326T163000
DTEND;TZID=Europe/Madrid:20180326T180000
DTSTAMP:20260425T171358
CREATED:20180426T153539Z
LAST-MODIFIED:20180426T153539Z
UID:18086-1522081800-1522087200@noticias.eudel.eus
SUMMARY:16:30 h. Vitoria-Gasteiz. Consejo Vasco de Familia.16:30. Vitoria-Gasteiz. Familiaren Euskal Kontseilua.
DESCRIPTION:
URL:https://noticias.eudel.eus/eu/evento/1630-h-vitoria-gasteiz-consejo-vasco-de-familia/
LOCATION:ARABA
CATEGORIES:General
END:VEVENT
END:VCALENDAR