BEGIN:VCALENDAR
VERSION:2.0
PRODID:-//EUDEL Noticias | Asociación de Municipios Vascos - ECPv6.5.1.3//NONSGML v1.0//EN
CALSCALE:GREGORIAN
METHOD:PUBLISH
X-WR-CALNAME:EUDEL Noticias | Asociación de Municipios Vascos
X-ORIGINAL-URL:https://noticias.eudel.eus/eu
X-WR-CALDESC:Events for EUDEL Noticias | Asociación de Municipios Vascos
REFRESH-INTERVAL;VALUE=DURATION:PT1H
X-Robots-Tag:noindex
X-PUBLISHED-TTL:PT1H
BEGIN:VTIMEZONE
TZID:Europe/Madrid
BEGIN:DAYLIGHT
TZOFFSETFROM:+0100
TZOFFSETTO:+0200
TZNAME:CEST
DTSTART:20200329T010000
END:DAYLIGHT
BEGIN:STANDARD
TZOFFSETFROM:+0200
TZOFFSETTO:+0100
TZNAME:CET
DTSTART:20201025T010000
END:STANDARD
END:VTIMEZONE
BEGIN:VEVENT
DTSTART;TZID=Europe/Madrid:20200528T100000
DTEND;TZID=Europe/Madrid:20200528T120000
DTSTAMP:20260423T220900
CREATED:20200527T080037Z
LAST-MODIFIED:20200527T080037Z
UID:20291-1590660000-1590667200@noticias.eudel.eus
SUMMARY:[:es]Reunión de la Comisión Territorial de Gipuzkoa.[:eu]Gipuzkoako Lurralde Batzordeen bilera.[:]
DESCRIPTION:
URL:https://noticias.eudel.eus/eu/evento/reunion-de-la-comision-territorial-de-gipuzkoa/
LOCATION:Bideokonferentziaren bitartez bilera
END:VEVENT
BEGIN:VEVENT
DTSTART;TZID=Europe/Madrid:20200528T160000
DTEND;TZID=Europe/Madrid:20200528T180000
DTSTAMP:20260423T220900
CREATED:20200514T152335Z
LAST-MODIFIED:20200514T152335Z
UID:20199-1590681600-1590688800@noticias.eudel.eus
SUMMARY:[:es]Consejo Vasco de la Cultura[:eu]Kulturaren Euskal Kontseilua[:]
DESCRIPTION:
URL:https://noticias.eudel.eus/eu/evento/consejo-vasco-de-la-cultura/
LOCATION:Bideokonferentziaren bitartez bilera
END:VEVENT
END:VCALENDAR