BEGIN:VCALENDAR
VERSION:2.0
PRODID:-//EUDEL Noticias | Asociación de Municipios Vascos - ECPv6.5.1.3//NONSGML v1.0//EN
CALSCALE:GREGORIAN
METHOD:PUBLISH
X-ORIGINAL-URL:https://noticias.eudel.eus/eu
X-WR-CALDESC:Events for EUDEL Noticias | Asociación de Municipios Vascos
REFRESH-INTERVAL;VALUE=DURATION:PT1H
X-Robots-Tag:noindex
X-PUBLISHED-TTL:PT1H
BEGIN:VTIMEZONE
TZID:Europe/Madrid
BEGIN:DAYLIGHT
TZOFFSETFROM:+0100
TZOFFSETTO:+0200
TZNAME:CEST
DTSTART:20200329T010000
END:DAYLIGHT
BEGIN:STANDARD
TZOFFSETFROM:+0200
TZOFFSETTO:+0100
TZNAME:CET
DTSTART:20201025T010000
END:STANDARD
END:VTIMEZONE
BEGIN:VEVENT
DTSTART;TZID=Europe/Madrid:20200629T093000
DTEND;TZID=Europe/Madrid:20200629T113000
DTSTAMP:20260423T203716
CREATED:20200626T090458Z
LAST-MODIFIED:20200626T090458Z
UID:20433-1593423000-1593430200@noticias.eudel.eus
SUMMARY:[:es]Consejo Territorial de Finanzas de Bizkaia[:eu]Bizkaiko Finantzen Lurralde Kontseilua[:]
DESCRIPTION:
URL:https://noticias.eudel.eus/eu/evento/consejo-territorial-de-finanzas-de-bizkaia-3/
LOCATION:Bideokonferentziaren bitartez bilera
END:VEVENT
BEGIN:VEVENT
DTSTART;TZID=Europe/Madrid:20200629T110000
DTEND;TZID=Europe/Madrid:20200629T130000
DTSTAMP:20260423T203716
CREATED:20200625T090808Z
LAST-MODIFIED:20200625T090808Z
UID:20413-1593428400-1593435600@noticias.eudel.eus
SUMMARY:[:es]Comisión de Seguimiento sobre el Brexit[:eu]Brexit-ari buruzko Jarraipen Batzordea.[:]
DESCRIPTION:
URL:https://noticias.eudel.eus/eu/evento/comision-de-seguimiento-sobre-el-brexit/
END:VEVENT
END:VCALENDAR