BEGIN:VCALENDAR
VERSION:2.0
PRODID:-//EUDEL Noticias | Asociación de Municipios Vascos - ECPv6.5.1.3//NONSGML v1.0//EN
CALSCALE:GREGORIAN
METHOD:PUBLISH
X-ORIGINAL-URL:https://noticias.eudel.eus/eu
X-WR-CALDESC:Events for EUDEL Noticias | Asociación de Municipios Vascos
REFRESH-INTERVAL;VALUE=DURATION:PT1H
X-Robots-Tag:noindex
X-PUBLISHED-TTL:PT1H
BEGIN:VTIMEZONE
TZID:Europe/Madrid
BEGIN:DAYLIGHT
TZOFFSETFROM:+0100
TZOFFSETTO:+0200
TZNAME:CEST
DTSTART:20200329T010000
END:DAYLIGHT
BEGIN:STANDARD
TZOFFSETFROM:+0200
TZOFFSETTO:+0100
TZNAME:CET
DTSTART:20201025T010000
END:STANDARD
END:VTIMEZONE
BEGIN:VEVENT
DTSTART;TZID=Europe/Madrid:20200715T093000
DTEND;TZID=Europe/Madrid:20200715T103000
DTSTAMP:20260423T191358
CREATED:20200714T064713Z
LAST-MODIFIED:20200714T064713Z
UID:20479-1594805400-1594809000@noticias.eudel.eus
SUMMARY:[:es]Bilbao Bizkaia Action Group[:eu]Bilbao Bizkaia Action Group[:]
DESCRIPTION:
URL:https://noticias.eudel.eus/eu/evento/bilbao-bizkaia-action-group-2/
LOCATION:Bideokonferentziaren bitartez bilera
END:VEVENT
BEGIN:VEVENT
DTSTART;TZID=Europe/Madrid:20200715T120000
DTEND;TZID=Europe/Madrid:20200715T140000
DTSTAMP:20260423T191358
CREATED:20200714T065116Z
LAST-MODIFIED:20200714T065116Z
UID:20485-1594814400-1594821600@noticias.eudel.eus
SUMMARY:[:es]Consejo de Seguridad Pública de Euskadi[:eu]Euskadiko Segurtasun Publikoaren Kontseilua[:]
DESCRIPTION:
URL:https://noticias.eudel.eus/eu/evento/consejo-de-seguridad-publica-de-euskadi/
LOCATION:Vitoria-Gasteiz\, ARABA
END:VEVENT
END:VCALENDAR