BEGIN:VCALENDAR
VERSION:2.0
PRODID:-//EUDEL Noticias | Asociación de Municipios Vascos - ECPv6.5.1.3//NONSGML v1.0//EN
CALSCALE:GREGORIAN
METHOD:PUBLISH
X-ORIGINAL-URL:https://noticias.eudel.eus/eu
X-WR-CALDESC:Events for EUDEL Noticias | Asociación de Municipios Vascos
REFRESH-INTERVAL;VALUE=DURATION:PT1H
X-Robots-Tag:noindex
X-PUBLISHED-TTL:PT1H
BEGIN:VTIMEZONE
TZID:Europe/Madrid
BEGIN:DAYLIGHT
TZOFFSETFROM:+0100
TZOFFSETTO:+0200
TZNAME:CEST
DTSTART:20200329T010000
END:DAYLIGHT
BEGIN:STANDARD
TZOFFSETFROM:+0200
TZOFFSETTO:+0100
TZNAME:CET
DTSTART:20201025T010000
END:STANDARD
END:VTIMEZONE
BEGIN:VEVENT
DTSTART;TZID=Europe/Madrid:20201102T133000
DTEND;TZID=Europe/Madrid:20201102T150000
DTSTAMP:20260423T082844
CREATED:20201102T084246Z
LAST-MODIFIED:20201102T084246Z
UID:20833-1604323800-1604329200@noticias.eudel.eus
SUMMARY:[:es]Consejo Territorial de Finanzas de Bizkaia[:eu]Bizkaiko Finantzen Lurralde Kontseilua[:]
DESCRIPTION:
URL:https://noticias.eudel.eus/eu/evento/consejo-territorial-de-finanzas-de-bizkaia-6/
LOCATION:Bideokonferentziaren bitartez bilera
END:VEVENT
BEGIN:VEVENT
DTSTART;TZID=Europe/Madrid:20201102T163000
DTEND;TZID=Europe/Madrid:20201102T193000
DTSTAMP:20260423T082844
CREATED:20200903T123320Z
LAST-MODIFIED:20201030T111833Z
UID:20554-1604334600-1604345400@noticias.eudel.eus
SUMMARY:[:es]Curso Basqueskola: Coachig y Liderazgo[:eu]Basqueskola ikastaroa: Coaching eta Lidergoa[:]
DESCRIPTION:
URL:https://noticias.eudel.eus/eu/evento/curso-basqueskola-coachig-y-liderazgo-4/
LOCATION:EUDEL Bilbao (Plaza del Ensanche\, 5)\, Zabalgune plaza 5 / Plaza del Ensanche 5\, BILBAO\, 48009
END:VEVENT
END:VCALENDAR