BEGIN:VCALENDAR
VERSION:2.0
PRODID:-//EUDEL Noticias | Asociación de Municipios Vascos - ECPv6.5.1.3//NONSGML v1.0//EN
CALSCALE:GREGORIAN
METHOD:PUBLISH
X-WR-CALNAME:EUDEL Noticias | Asociación de Municipios Vascos
X-ORIGINAL-URL:https://noticias.eudel.eus/eu
X-WR-CALDESC:Events for EUDEL Noticias | Asociación de Municipios Vascos
REFRESH-INTERVAL;VALUE=DURATION:PT1H
X-Robots-Tag:noindex
X-PUBLISHED-TTL:PT1H
BEGIN:VTIMEZONE
TZID:Europe/Madrid
BEGIN:DAYLIGHT
TZOFFSETFROM:+0100
TZOFFSETTO:+0200
TZNAME:CEST
DTSTART:20200329T010000
END:DAYLIGHT
BEGIN:STANDARD
TZOFFSETFROM:+0200
TZOFFSETTO:+0100
TZNAME:CET
DTSTART:20201025T010000
END:STANDARD
END:VTIMEZONE
BEGIN:VEVENT
DTSTART;TZID=Europe/Madrid:20201105T090000
DTEND;TZID=Europe/Madrid:20201105T110000
DTSTAMP:20260423T082713
CREATED:20201104T135648Z
LAST-MODIFIED:20201104T135648Z
UID:20854-1604566800-1604574000@noticias.eudel.eus
SUMMARY:[:es]Comisión Territorial de Gipuzkoa de EUDEL[:eu]EUDELen Gipuzkoako Lurralde Batzordea.[:]
DESCRIPTION:
URL:https://noticias.eudel.eus/eu/evento/comision-territorial-de-gipuzkoa-de-eudel-6/
LOCATION:Bideokonferentziaren bitartez bilera
END:VEVENT
BEGIN:VEVENT
DTSTART;TZID=Europe/Madrid:20201105T093000
DTEND;TZID=Europe/Madrid:20201105T113000
DTSTAMP:20260423T082713
CREATED:20201102T084137Z
LAST-MODIFIED:20201102T084137Z
UID:20831-1604568600-1604575800@noticias.eudel.eus
SUMMARY:[:es]Pleno de la Autoridad del Transporte de Euskadi[:eu]Euskadiko Garraio Agintaritzaren Osoko Bilkura[:]
DESCRIPTION:
URL:https://noticias.eudel.eus/eu/evento/pleno-de-la-autoridad-del-transporte-de-euskadi-3/
LOCATION:Bideokonferentziaren bitartez bilera
END:VEVENT
BEGIN:VEVENT
DTSTART;TZID=Europe/Madrid:20201105T093000
DTEND;TZID=Europe/Madrid:20201105T120000
DTSTAMP:20260423T082713
CREATED:20201030T080401Z
LAST-MODIFIED:20201030T080401Z
UID:20826-1604568600-1604577600@noticias.eudel.eus
SUMMARY:[:es]Secretarios Generales del Consejo de Municipios y Regiones de Europa (CMRE).[:eu]Europako Udal eta Eskualdeen Kontseiluaren Idazkari nagusiak.[:]
DESCRIPTION:
URL:https://noticias.eudel.eus/eu/evento/secretarios-generales-del-consejo-de-municipios-y-regiones-de-europa-cmre-3/
LOCATION:Bideokonferentziaren bitartez bilera
END:VEVENT
BEGIN:VEVENT
DTSTART;TZID=Europe/Madrid:20201105T120000
DTEND;TZID=Europe/Madrid:20201105T133000
DTSTAMP:20260423T082713
CREATED:20201102T084635Z
LAST-MODIFIED:20201102T084635Z
UID:20835-1604577600-1604583000@noticias.eudel.eus
SUMMARY:[:es]Consejo Territorial de Finanzas de Gipuzkoa[:eu]Gipuzkoako Finantzen Lurralde Kontseilua[:]
DESCRIPTION:
URL:https://noticias.eudel.eus/eu/evento/consejo-territorial-de-finanzas-de-gipuzkoa-3/
LOCATION:Bideokonferentziaren bitartez bilera
END:VEVENT
BEGIN:VEVENT
DTSTART;TZID=Europe/Madrid:20201105T140000
DTEND;TZID=Europe/Madrid:20201105T163000
DTSTAMP:20260423T082713
CREATED:20201030T080103Z
LAST-MODIFIED:20201030T080103Z
UID:20822-1604584800-1604593800@noticias.eudel.eus
SUMMARY:[:es]Secretarios Generales del Consejo de Municipios y Regiones de Europa (CMRE).[:eu]Europako Udal eta Eskualdeen Kontseiluaren Idazkari nagusiak.[:]
DESCRIPTION:
URL:https://noticias.eudel.eus/eu/evento/secretarios-generales-del-consejo-de-municipios-y-regiones-de-europa-cmre/
LOCATION:Bideokonferentziaren bitartez bilera
END:VEVENT
END:VCALENDAR