BEGIN:VCALENDAR
VERSION:2.0
PRODID:-//EUDEL Noticias | Asociación de Municipios Vascos - ECPv6.5.1.3//NONSGML v1.0//EN
CALSCALE:GREGORIAN
METHOD:PUBLISH
X-WR-CALNAME:EUDEL Noticias | Asociación de Municipios Vascos
X-ORIGINAL-URL:https://noticias.eudel.eus/eu
X-WR-CALDESC:Events for EUDEL Noticias | Asociación de Municipios Vascos
REFRESH-INTERVAL;VALUE=DURATION:PT1H
X-Robots-Tag:noindex
X-PUBLISHED-TTL:PT1H
BEGIN:VTIMEZONE
TZID:Europe/Madrid
BEGIN:DAYLIGHT
TZOFFSETFROM:+0100
TZOFFSETTO:+0200
TZNAME:CEST
DTSTART:20200329T010000
END:DAYLIGHT
BEGIN:STANDARD
TZOFFSETFROM:+0200
TZOFFSETTO:+0100
TZNAME:CET
DTSTART:20201025T010000
END:STANDARD
END:VTIMEZONE
BEGIN:VEVENT
DTSTART;TZID=Europe/Madrid:20201127T093000
DTEND;TZID=Europe/Madrid:20201127T133000
DTSTAMP:20260423T082711
CREATED:20200909T113833Z
LAST-MODIFIED:20200910T111744Z
UID:20567-1606469400-1606483800@noticias.eudel.eus
SUMMARY:[:es]XIV edición Seminario Vasco de Derecho Local. Sesión quinta: Marco normativo sobre normalización del uso institucional y administrativo de las lenguas oficiales en las entidades locales.[:eu]XIV edizioa Tokiko Zuzenbidearen Euskal Mintegia. Bosgarren saioa: Marco normativo sobre normalización del uso institucional y administrativo de las lenguas oficiales en las entidades locales.[:]
DESCRIPTION:
URL:https://noticias.eudel.eus/eu/evento/xiv-edicion-seminario-vasco-de-derecho-local-sesion-quinta-marco-normativo-sobre-normalizacion-del-uso-institucional-y-administrativo-de-las-lenguas-oficiales-en-las-entidades-locales/
LOCATION:Zoom plataformaren bitartez
END:VEVENT
END:VCALENDAR