BEGIN:VCALENDAR
VERSION:2.0
PRODID:-//EUDEL Noticias | Asociación de Municipios Vascos - ECPv6.5.1.3//NONSGML v1.0//EN
CALSCALE:GREGORIAN
METHOD:PUBLISH
X-ORIGINAL-URL:https://noticias.eudel.eus/eu
X-WR-CALDESC:Events for EUDEL Noticias | Asociación de Municipios Vascos
REFRESH-INTERVAL;VALUE=DURATION:PT1H
X-Robots-Tag:noindex
X-PUBLISHED-TTL:PT1H
BEGIN:VTIMEZONE
TZID:Europe/Madrid
BEGIN:DAYLIGHT
TZOFFSETFROM:+0100
TZOFFSETTO:+0200
TZNAME:CEST
DTSTART:20200329T010000
END:DAYLIGHT
BEGIN:STANDARD
TZOFFSETFROM:+0200
TZOFFSETTO:+0100
TZNAME:CET
DTSTART:20201025T010000
END:STANDARD
END:VTIMEZONE
BEGIN:VEVENT
DTSTART;TZID=Europe/Madrid:20201204T090000
DTEND;TZID=Europe/Madrid:20201204T110000
DTSTAMP:20260423T045847
CREATED:20201202T083515Z
LAST-MODIFIED:20201202T083515Z
UID:20998-1607072400-1607079600@noticias.eudel.eus
SUMMARY:[:es]Consejo Territorial y Administración Local de Finanzas de Álava[:eu]Arabako Toki Administrazio eta Finantzen Lurralde Kontseilua[:]
DESCRIPTION:
URL:https://noticias.eudel.eus/eu/evento/consejo-territorial-y-administracion-local-de-finanzas-de-alava/
LOCATION:Bideokonferentziaren bitartez bilera
END:VEVENT
BEGIN:VEVENT
DTSTART;TZID=Europe/Madrid:20201204T133000
DTEND;TZID=Europe/Madrid:20201204T153000
DTSTAMP:20260423T045847
CREATED:20201125T124741Z
LAST-MODIFIED:20201125T124741Z
UID:20974-1607088600-1607095800@noticias.eudel.eus
SUMMARY:[:es]Comisión Territorial de Álava de EUDEL[:eu]EUDELeko Arabako Lurralde Batzordea[:]
DESCRIPTION:
URL:https://noticias.eudel.eus/eu/evento/comision-territorial-de-alava-de-eudel-5/
LOCATION:Bideokonferentziaren bitartez bilera
END:VEVENT
BEGIN:VEVENT
DTSTART;TZID=Europe/Madrid:20201204T133000
DTEND;TZID=Europe/Madrid:20201204T153000
DTSTAMP:20260423T045847
CREATED:20201127T132209Z
LAST-MODIFIED:20201127T132209Z
UID:20980-1607088600-1607095800@noticias.eudel.eus
SUMMARY:[:es]Órgano Interinstitucional de Servicios Sociales (OISS)[:eu]Gizarte Zerbitzuen Erakunde arteko Organoaren bilera[:]
DESCRIPTION:
URL:https://noticias.eudel.eus/eu/evento/organo-interinstitucional-de-servicios-sociales-oiss/
LOCATION:Bideokonferentziaren bitartez bilera
END:VEVENT
END:VCALENDAR