BEGIN:VCALENDAR
VERSION:2.0
PRODID:-//EUDEL Noticias | Asociación de Municipios Vascos - ECPv6.5.1.3//NONSGML v1.0//EN
CALSCALE:GREGORIAN
METHOD:PUBLISH
X-ORIGINAL-URL:https://noticias.eudel.eus/eu
X-WR-CALDESC:Events for EUDEL Noticias | Asociación de Municipios Vascos
REFRESH-INTERVAL;VALUE=DURATION:PT1H
X-Robots-Tag:noindex
X-PUBLISHED-TTL:PT1H
BEGIN:VTIMEZONE
TZID:Europe/Madrid
BEGIN:DAYLIGHT
TZOFFSETFROM:+0100
TZOFFSETTO:+0200
TZNAME:CEST
DTSTART:20210328T010000
END:DAYLIGHT
BEGIN:STANDARD
TZOFFSETFROM:+0200
TZOFFSETTO:+0100
TZNAME:CET
DTSTART:20211031T010000
END:STANDARD
END:VTIMEZONE
BEGIN:VEVENT
DTSTART;TZID=Europe/Madrid:20210129T093000
DTEND;TZID=Europe/Madrid:20210129T113000
DTSTAMP:20260422T234824
CREATED:20210125T074619Z
LAST-MODIFIED:20210125T074619Z
UID:21148-1611912600-1611919800@noticias.eudel.eus
SUMMARY:[:es]Comisión Ordenación del Territorio del País Vasco[:eu]Euskal Autonomia Erkidegoko Lurraldearen Antolamendurako Batzordea. [:]
DESCRIPTION:
URL:https://noticias.eudel.eus/eu/evento/comision-ordenacion-del-territorio-del-pais-vasco/
LOCATION:Bideokonferentziaren bitartez bilera
END:VEVENT
BEGIN:VEVENT
DTSTART;TZID=Europe/Madrid:20210129T113000
DTEND;TZID=Europe/Madrid:20210129T120000
DTSTAMP:20260422T234824
CREATED:20210125T074757Z
LAST-MODIFIED:20210125T074757Z
UID:21150-1611919800-1611921600@noticias.eudel.eus
SUMMARY:[:es]Comisión Ordenación Territorio del Pais Vasco. Álava.[:eu]Euskal Autonomia Erkidegoko Lurraldearen Antolamendurako Batzordea. Araba.[:]
DESCRIPTION:
URL:https://noticias.eudel.eus/eu/evento/comision-ordenacion-territorio-del-pais-vasco-alava/
LOCATION:Bideokonferentziaren bitartez bilera
END:VEVENT
BEGIN:VEVENT
DTSTART;TZID=Europe/Madrid:20210129T113000
DTEND;TZID=Europe/Madrid:20210129T120000
DTSTAMP:20260422T234824
CREATED:20210125T074927Z
LAST-MODIFIED:20210125T074927Z
UID:21152-1611919800-1611921600@noticias.eudel.eus
SUMMARY:[:es]Comisión Ordenación del Territorio del País Vasco. Gipuzkoa.[:eu]Euskal Autonomia Erkidegoko Lurraldearen Antolamendurako Batzordea. Gipuzkoa.[:]
DESCRIPTION:
URL:https://noticias.eudel.eus/eu/evento/comision-ordenacion-del-territorio-del-pais-vasco-gipuzkoa/
LOCATION:Bideokonferentziaren bitartez bilera
END:VEVENT
END:VCALENDAR