BEGIN:VCALENDAR
VERSION:2.0
PRODID:-//EUDEL Noticias | Asociación de Municipios Vascos - ECPv6.5.1.3//NONSGML v1.0//EN
CALSCALE:GREGORIAN
METHOD:PUBLISH
X-ORIGINAL-URL:https://noticias.eudel.eus/eu
X-WR-CALDESC:Events for EUDEL Noticias | Asociación de Municipios Vascos
REFRESH-INTERVAL;VALUE=DURATION:PT1H
X-Robots-Tag:noindex
X-PUBLISHED-TTL:PT1H
BEGIN:VTIMEZONE
TZID:Europe/Madrid
BEGIN:DAYLIGHT
TZOFFSETFROM:+0100
TZOFFSETTO:+0200
TZNAME:CEST
DTSTART:20210328T010000
END:DAYLIGHT
BEGIN:STANDARD
TZOFFSETFROM:+0200
TZOFFSETTO:+0100
TZNAME:CET
DTSTART:20211031T010000
END:STANDARD
END:VTIMEZONE
BEGIN:VEVENT
DTSTART;TZID=Europe/Madrid:20210503T120000
DTEND;TZID=Europe/Madrid:20210503T140000
DTSTAMP:20260422T135918
CREATED:20210423T080722Z
LAST-MODIFIED:20210423T080730Z
UID:21461-1620043200-1620050400@noticias.eudel.eus
SUMMARY:[:es]Consejo Vasco Atención Sociosanitaria[:eu]Arreta Soziosanitarioko Euskal Kontseilua.[:]
DESCRIPTION:
URL:https://noticias.eudel.eus/eu/evento/consejo-vasco-atencion-sociosanitaria/
LOCATION:Bideokonferentziaren bitartez bilera
END:VEVENT
BEGIN:VEVENT
DTSTART;TZID=Europe/Madrid:20210503T160000
DTEND;TZID=Europe/Madrid:20210503T180000
DTSTAMP:20260422T135918
CREATED:20210423T080914Z
LAST-MODIFIED:20210423T080926Z
UID:21463-1620057600-1620064800@noticias.eudel.eus
SUMMARY:[:es]Consejo Vasco Universidades[:eu]Unibertsitateen Euskal Kontseilua[:]
DESCRIPTION:
URL:https://noticias.eudel.eus/eu/evento/consejo-vasco-universidades/
LOCATION:Bideokonferentziaren bitartez bilera
END:VEVENT
END:VCALENDAR